Workbook

Sheet Minha Divulgação
C1: AO ADICIONAR FILTROS, SEMPRE ESCOLHER "VER APENAS AS MINHAS"
A2: Número da peça | B2: ID | C2: Nome da peça app | D2: Título da peça rede | E2: Status inicial | F2: Ciclo | G2: Mês | H2: Entrada | I2: Ação | J2: Data de de início | K2: Data de saída | L2: Nome da Sessão | M2: Sessão | N2: Categoria | O2: Marca | P2: SKU | Q2: Formato da peça | R2: Medida da peça | S2: Tipo de argumento | T2: Identidade visual | U2: Logo | V2: Texto | W2: Sugestão de CTA | X2: Preço/Promoção - Arquivão
A3: 0 | B3: 240921 | C3: Jornal de Ofertas | D3: CICLO11_Jornal_de_ofertas1_07072023 | E3: Publicado | F3: 202311 | G3: Junho | H3: Planejado | J3: 45114 | K3: 45134 | L3: CICLO 11 | M3: =VLOOKUP(L3,Sessão!A:B,2,0) -> #N/A | N3: Sem categoria | O3: Lumina | P3: 119159,2816,92795,107374,72221,26441 | Q3: Image | R3: 1080x1920 | S3: promocional | T3: Seguindo novo formato da MD. Seguir padrão de Jornal de Ofertas. | U3: Natura | V3: Seguir padrão de jornal de ofertas | X3: Seguir arquivão para consulta de preços
A4: 1 | C4: Garrafas metalizadas. 750 ml | D4: CICLO 18_2023_Garrafas metalizadas. 750ml_19 10 23 | E4: Publicar | F4: 202318 | G4: Outubro | I4: Presentes Natal Avon | J4: 45218 | K4: 45225 | N4: Presentes C&E | O4: Casa &Estilo | Q4: image | R4: 1080x1920 | S4: Promocional | T4: Seguir ID da revista de Casa & Estilo | U4: Avon | V4: Título + sub + atributos + texto legal | X4: Seguir revista de C&E - Página 05 do Ciclo 18/23
A5: 2 | C5: Garrafas metalizadas. 750 ml | D5: CICLO 18_2023_Garrafas metalizadas conceitual. 750ml_19 10 23 | E5: Publicar | F5: 202318 | G5: Outubro | H5: Presentes Natal Avon | I5: Presentes Natal Avon | J5: 45218 | K5: 45225 | L5: Presentes C&E | N5: Presentes C&E | O5: Casa &Estilo | P5: image | Q5: image | R5: 1080x1920 | S5: Marca | T5: Seguir ID da revista de Casa & Estilo | U5: Avon | V5: Título + sub + atributos + texto legal | X5: Seguir revista de C&E - Capa do Ciclo 18/23
A6: 3 | C6: Copos glitter com canudo. 400 ml | D6: CICLO 18_2023_Copos glitter com canudo. 400 ml_19 10 23 | E6: Publicar | F6: 202318 | G6: Outubro | I6: Presentes Natal Avon | J6: 45218 | K6: 45225 | N6: Presentes C&E | O6: Casa &Estilo | Q6: image | R6: 1080x1920 | S6: Promocional | T6: Seguir ID da revista de Casa & Estilo | U6: Avon | V6: Título + sub + atributos + texto legal | X6: Seguir revista de C&E - Página 07 do Ciclo 18/23
A7: 4 | C7: Presente Stich | D7: CICLO 18_2023_Presente Stich_19 10 23 | E7: Publicar | F7: 202318 | G7: Outubro | I7: Presentes Natal Avon | J7: 45218 | K7: 45225 | N7: Presentes C&E | O7: Casa &Estilo | Q7: image | R7: 1080x1920 | S7: Promocional | T7: Seguir ID da revista de Casa & Estilo | U7: Avon | V7: Título + sub + atributos + texto legal | X7: Seguir revista de C&E - Páginas 08/09 do Ciclo 18/23
A8: 5 | C8: Jogo de 2 travessa de vidro com tampa | D8: CICLO 18_2023_Jogo de 2 travessa de vidro com tampa_19 10 23 | E8: Publicar | F8: 202318 | G8: Outubro | I8: Houseware | J8: 45218 | K8: 45225 | N8: Houseware | O8: Casa &Estilo | Q8: image | R8: 1080x1920 | S8: Promocional | T8: Seguir ID da revista de Casa & Estilo | U8: Avon | V8: Título + sub + atributos + texto legal | X8: Seguir revista de C&E - Contra capa do Ciclo 18/23
A9: 6 | C9: Jogo 2 Potes de Preparo Disney | D9: CICLO 18_2023_Jogo 2 Potes de Preparo Disney_19 10 23 | E9: Publicar | F9: 202318 | G9: Outubro | H9: Houseware | I9: Houseware | J9: 45218 | K9: 45225 | N9: Houseware | O9: Casa &Estilo | Q9: image | R9: 1080x1920 | S9: Promocional | T9: Seguir ID da revista de Casa & Estilo | U9: Avon | V9: Título + sub + atributos + texto legal | X9: Seguir revista de C&E - Página 49 do Ciclo 18/23
A10: 7 | C10: Presente Desejos | D10: CICLO 18_2023_Presente Desejos_19 10 23 | E10: Publicar | F10: 202318 | G10: Outubro | I10: Presentes Natal Avon | J10: 45218 | K10: 45225 | N10: Presentes | O10: Maquiagem Avon | Q10: image | R10: 1080x1920 | S10: Promocional | T10: Seguir ID da campanha de Natal: adaptar a página 04 da revista de beleza do ciclo 18/23 | U10: Avon | V10: Nome do presente + tagline + atributos | X10: Seguir revista de beleza - Página 04 do Ciclo 18/23
A11: 8 | C11: Presente Maleta | D11: CICLO 18_2023_Presente Maleta_19 10 23 | E11: Publicar | F11: 202318 | G11: Outubro | I11: Presentes Natal Avon | J11: 45218 | K11: 45225 | N11: Presentes | O11: Maquiagem Avon | Q11: image | R11: 1080x1920 | S11: Promocional | T11: Seguir ID da campanha de Natal: adaptar a página 13 da revista de beleza do ciclo 18/23 | U11: Avon | V11: Nome do presente + tagline + atributos | X11: Seguir revista de beleza - Página 13 do Ciclo 18/23
A12: 9 | C12: Brillho Rollete | D12: CICLO 18_2023_Brillho Rollete_19 10 23 | E12: Publicar | F12: 202318 | G12: Outubro | J12: 45218 | K12: 45225 | N12: Maquiagem | O12: Color Trend | Q12: image | R12: 1080x1920 | S12: Promocional | T12: Seguir ID da revista de Beleza: adaptar a página 66 da revista de beleza do ciclo 18/23 | U12: Avon | V12: Título + sub + atributos | X12: Seguir revista de beleza - Página 66 do Ciclo 18/23
A13: 10 | C13: Renew Ultimate | D13: CICLO 18_2023_Renew Ultimate_19 10 23 | E13: Publicar | F13: 202318 | G13: Outubro | J13: 45218 | K13: 45225 | N13: Face Care | O13: Renew | Q13: image | R13: 1080x1920 | S13: Promocional | T13: Seguir ID da revista de Beleza: adaptar a página 111 da revista de beleza do ciclo 18/23 | U13: Avon | V13: Título + sub + atributos + texto legal | X13: Seguir revista de beleza - Página 111 do Ciclo 18/23
A14: 11 | C14: Loção corporal AC. 700ml | D14: CICLO 18_2023_Loção corporal AC. 700ml_19 10 23 | E14: Publicar | F14: 202318 | G14: Outubro | H14: 45216 | I14: 45225 | J14: 45218 | K14: 45225 | N14: Body Care | O14: Avon Care | Q14: image | R14: 1080x1920 | S14: Promocional | T14: Seguir ID da revista de Beleza: adaptar a página 139 da revista de beleza do ciclo 18/23 | U14: Avon | V14: Título + sub + atributos + texto legal | X14: Seguir revista de beleza - Página 139 do Ciclo 18/23
A15: 12 | C15: Kit Sereia Kids_AVON FRIDAY | D15: CICLO 18_2023_Kit Sereia Kids_AVON FRIDAY_19 10 23 | E15: Publicar | F15: 202318 | G15: Outubro | J15: 45218 | K15: 45225 | N15: Kids Houseware | O15: Casa &Estilo | Q15: image | R15: 1080x1920 | S15: Promocional | T15: Seguir ID de Avon Friday | U15: Avon | V15: Título + sub + atributos + texto legal | X15: Seguir revista de C&E - Página 37 do Ciclo 18/23
A16: 13 | C16: Kit Marmita Juntas_AVON FRIDAY | D16: CICLO 18_2023_Kit Marmita Juntas_AVON FRIDAY_19 10 23 | E16: Publicar | F16: 202318 | G16: Outubro | H16: 45216 | I16: 45225 | J16: 45218 | K16: 45225 | N16: Houseware | O16: Casa &Estilo | Q16: image | R16: 1080x1920 | S16: Promocional | T16: Seguir ID de Avon Friday | U16: Avon | V16: Título + sub + atributos + texto legal | W16: Seguir revista de C&E - Página 37 do Ciclo 18/23 | X16: Seguir revista de C&E - Páginas 38/39 do Ciclo 18/23
A17: 14 | C17: Super Shock Volume Max _AVON FRIDAY | D17: CICLO 18_2023_Super Shock Volume Max_AVON FRIDAY_19 10 23 | E17: Publicar | F17: 202318 | G17: Outubro | J17: 45218 | K17: 45225 | N17: Maquiagem | O17: Maquiagem Avon | Q17: image | R17: 1080x1920 | S17: Promocional | T17: Seguir ID de Avon Friday | U17: Avon | V17: Título + sub + atributos + texto legal | W17: Seguir revista de C&E - Páginas 38/39 do Ciclo 18/23 | X17: Seguir revista de beleza - Página 57 do Ciclo 18/23
A18: 15 | C18: Musk Body Splash. 90 ml_AVON FRIDAY | D18: CICLO 18_2023_Musk Body Splash. 90 ml_AVON FRIDAY_19 10 23 | E18: Publicar | F18: 202318 | G18: Outubro | J18: 45218 | K18: 45225 | N18: Perfume | O18: Musk | Q18: image | R18: 1080x1920 | S18: Promocional | T18: Seguir ID de Avon Friday | U18: Avon | V18: Título + sub + atributos + texto legal | W18: Seguir revista de beleza - Página 57 do Ciclo 18/23 | X18: Seguir revista de beleza - Página 105 do Ciclo 18/23
A19: 16 | C19: Luvas de Silicone. 120 g _AVON FRIDAY | D19: CICLO 18_2023_Luvas de Silicone. 120 g_AVON FRIDAY_19 10 23 | E19: Publicar | F19: 202318 | G19: Outubro | H19: 45216 | I19: 45225 | J19: 45218 | K19: 45225 | N19: Body Care | O19: Avon Care | Q19: image | R19: 1080x1920 | S19: Promocional | T19: Seguir ID de Avon Friday | U19: Avon | V19: Título + sub + atributos + texto legal | W19: Seguir revista de beleza - Página 105 do Ciclo 18/23 | X19: Seguir revista de beleza - Página 147 do Ciclo 18/23
A20: 17 | C20: Protetores Solares FPS 30 _AVON FRIDAY | D20: CICLO 18_2023_Protetores Solares FPS 30_AVON FRIDAY_19 10 23 | E20: Publicar | F20: 202318 | G20: Outubro | H20: 45216 | I20: 45225 | J20: 45218 | K20: 45225 | N20: Body e Face Care | O20: Avon Care Sun+ | Q20: image | R20: 1080x1920 | S20: Promocional | T20: Seguir ID de Avon Friday | U20: Avon | V20: Título + sub + atributos + texto legal | W20: Seguir revista de beleza - Página 147 do Ciclo 18/23 | X20: Seguir revista de beleza - Página 153 do Ciclo 18/23
A21: 18 | C21: Advance Techniques _AVON FRIDAY | D21: CICLO 18_2023_Advance Techniques_AVON FRIDAY_19 10 23 | E21: Publicar | F21: 202318 | G21: Outubro | H21: 45218 | I21: 45225 | J21: 45218 | K21: 45225 | N21: Hair Care | O21: Advance Techniques | P21: 45225 | Q21: image | R21: 1080x1920 | S21: Promocional | T21: Seguir ID de Avon Friday | U21: Avon | V21: Título + sub + atributos + texto legal | X21: Seguir revista de beleza - Página 175 do Ciclo 18/23
A22: 19 | C22: Presente de Natal Far Away Moon | D22: CICLO 19_2023_Presente de Natal Far Away Moon_27 10 23 | E22: Briefing | F22: 202319 | G22: Outubro | I22: Presentes Natal Avon | J22: 45226 | K22: 45240 | N22: Presentes | O22: Far Away | Q22: Image | R22: 1080x1920 | S22: Promocional | T22: Seguir ID da campanha de Natal: adaptar a página 05 da revista de beleza do ciclo 19/23 | U22: Avon + Far Away Moon | V22: Nome do presente + tagline + texto olfativo | X22: Seguir revista de beleza - Página 05 do Ciclo 19/23
A23: 20 | C23: Presente de Natal Homem Aranha | D23: CICLO 19_2023_Presente de Natal Homem Aranha_27 10 23 | E23: Briefing | F23: 202319 | G23: Outubro | I23: Presentes Natal Avon | J23: 45226 | K23: 45240 | N23: Presentes | O23: kids CFT | Q23: Image | R23: 1080x1920 | S23: Promocional | T23: Seguir ID da campanha de Natal: adaptar a página 26 da revista de beleza do ciclo 19/23 | U23: Avon | V23: Nome do presente + tagline + texto olfativo | X23: Seguir revista de beleza - Página 26 do Ciclo 19/23
A24: 21 | C24: Presente Natal Ariel | D24: CICLO 19_2023_Presente de Natal Ariel_27 10 23 | E24: Briefing | F24: 202319 | G24: Outubro | I24: Presentes Natal Avon | J24: 45226 | K24: 45240 | N24: Presentes | O24: kids CFT | Q24: Image | R24: 1080x1920 | S24: Promocional | T24: Seguir ID da campanha de Natal: adaptar a página 26 da revista de beleza do ciclo 19/23 | U24: Avon | V24: Nome do presente + tagline + texto olfativo | X24: Seguir revista de beleza - Página 26 do Ciclo 19/23
U584: Natura | V584: Seguir padrão de JO NOVO: Fundo com lettering 'OFERTAS | X584: Consultar arquivão
U585: Natura | V585: Seguir padrão de JO NOVO: Fundo com lettering 'OFERTAS | X585: Consultar arquivão
U586: Natura | V586: Seguindo o padrão do vídeo de jornal de ofertas ciclo 17, precisamos fazer o mesmo aqui para o ciclo 18 | X586: Consultar arquivão
U587: Natura | V587: Apresentar a promo dos refis + pricipais claims da linha | X587: Consultar arquivão
U588: Natura | V588: Apresentar as 3 promos do deos spray. | X588: Consultar arquivão
U589: Natura | V589: Apresentar a promoção progressiva dos deos roll-on | X589: Consultar arquivão
U590: Natura | V590: Apresentar a promoção do casal, junto ao seus caminhos olfativos e convite da marca | X590: Consultar arquivão
U591: Natura | V591: Por ser uma promoção regionalizada, não iremos trazer o preço para essa peça (e nem o código), mas podemos trazer uma chamada comercial mais apelativa, pra destacar que temos a promo
U592: Natura | V592: Apresentar a promoção do conjunto e tentar incluir os claims de cada produto. Se não couber, trazer claims da linha apenas. Para apresentação da mecânica dos R$4,00 trazer do mesmo jeito da revista | X592: Consultar arquivão
U593: Natura | V593: Apresentar a promo, considerando ter a mecânica junto. | X593: Consultar arquivão
U594: Natura | V594: Apresentar a promo dos 3 itens de FPS 60 | X594: Consultar arquivão
U595: Natura | V595: Considerar uma layer de abertura e uma final (com cta). Nas layers de cada produto, destacar o preço promocionado, mas trazer também os power claims de cada produto. | X595: Consultar arquivão
U596: Natura | V596: Por ser uma promoção regionalizada, não iremos trazer o preço para essa peça (e nem o código), mas podemos trazer uma chamada comercial mais apelativa, pra destacar que temos a promo | X596: Consultar arquivão
U597: Natura | V597: Apresentar o lançamento da coleção de forma conceitual, trazer a primeira mensagem da hierarquia, e pelo menos o nome de cada produto.
U598: Natura | V598: Considerar uma layer de abertura e uma final (com cta). Nas layers de cada produto, destacar o preço promocionado, mas trazer também os power claims de cada produto. | W598: Na ultima layer | X598: Consultar arquivão
U599: Natura | V599: Por ser uma promoção regionalizada, não iremos trazer o preço para essa peça (e nem o código), mas podemos trazer uma chamada comercial mais apelativa, pra destacar que temos esse combo promocionado | W599: Convidar para saber o preço especial | X599: Consultar arquivão
...

Sheet ANEXOS E REFS

Sheet Acordos
A1: Acordos
A2: Criação/Design | B2: Briefing e Programação | C2: Fluxograma | D2: Checklist Task: | E2: Padronização de título task:
A3: Salvamento do nome da pasta: - As pastas são separadas por mês - Dentro da pasta de mês, entrar em Social Selling - Criar uma nova pasta, com o a data de subida (ex: 30) - Dentro desta pasta do dia de subida, criar duas pastas: 1. Pasta apenas com os arquivos abertos daquele dia 2. Pasta apenas com os JPGs, daquele dia (sempre salvar as peças com o nome exato que está na coluna "Título da peça rede") | B3: Solicitantes: 1.Sempre que a peça for solicitada para subir, atualizar a coluna de status para PUBLICAR 2. Ao abrir tarefa no task, preencher o check list completo 3. Nunca deixar os campos "categoria" e "marca" sem preenchimento, mesmo que sejam os 'sem categoria' ou 'sem marca' Programação: 1. Após publicação: - preencher coluna ID - atualizar a coluna de status para PUBLICADO 2. Após criar uma nova sessão, acessar a aba "Sessão" e incluir título e número de da sessão | C3: Op.1: Briefing > Criação da peça > Validação > Ajustes > Validação final > Criação salva na rede > Publicação Op.2: Publicação OU Despublicação | D3: Texto: ( ) Sim ( ) Não Arte: ( ) Sim ( ) Não Programação: ( ) Sim ( ) Não Necessário aprovação? ( ) Sim ( ) Não Número da peça (considerar coluna A): Nome da pasta no sharepoint para salvar: IMPORTANTE: Todas as peças devem ser salvas na rede de acordo com a coluna 'nome da peça na rede' que está na planilha. Em caso de THUMB, salvar idem ao nome adicionando apenas "_THUMB" no final | E3: MD | CICLO | ENTRADA | NOMEDAPEÇA Ex: MD | CICLO 13 | Planejado | Completo MD | FORA CICLO | ENTRADA | NOMEDAPEÇA Ex: MD | ÁGEIS | REAL TIME | Cabelos lisos

Sheet Mensuração
B1: Por favor, após realizar a pesquisa retirar os filtros realizados!
B2: DADOS PARA MENSURAÇÃO
B3: Número da peça | C3: Mês | D3: Data entrada | E3: Data saída | F3: Nome da peça | G3: ID | H3: Ciclo | I3: Argumento | J3: Categoria | K3: Marca 1 | L3: Marca 2 | M3: Marca 3 | N3: Marca 4 | O3: Marca 5 | P3: Marca 6 | Q3: Entrada | R3: Ação
B4: 0 | C4: =VLOOKUP(B4,'Minha Divulgação'!A:G,7,0) -> Junho | D4: =VLOOKUP(B4,'Minha Divulgação'!A:J,10,0) -> 45114 | E4: =VLOOKUP(B4,'Minha Divulgação'!A:K,11,0) -> 45134 | F4: =VLOOKUP(B4,'Minha Divulgação'!A:D,4,0) -> CICLO11_Jornal_de_ofertas1_07072023 | G4: =VLOOKUP(B4,'Minha Divulgação'!A:B,2,0) -> 240921 | H4: =VLOOKUP(B4,'Minha Divulgação'!A:F,6,0) -> 202311 | I4: =VLOOKUP(B4,'Minha Divulgação'!A:S,24,0) -> #REF! | J4: =VLOOKUP(B4,'Minha Divulgação'!A:N,14,0) -> Sem categoria | K4: =VLOOKUP(B4,'Minha Divulgação'!A:O,15,0) -> Lumina | L4: =VLOOKUP(B4,'Minha Divulgação'!A:O,16,0) -> #REF! | M4: =VLOOKUP(B4,'Minha Divulgação'!A:O,17,0) -> #REF! | N4: =VLOOKUP(B4,'Minha Divulgação'!A:O,18,0) -> #REF! | O4: =VLOOKUP(B4,'Minha Divulgação'!A:O,19,0) -> #REF! | P4: =VLOOKUP(B4,'Minha Divulgação'!A:O,20,0) -> #REF! | Q4: =VLOOKUP(B4,'Minha Divulgação'!A:H,8,0) -> Planejado | R4: =VLOOKUP(B4,'Minha Divulgação'!A:I,9,0) -> 0
B5: 1 | C5: =VLOOKUP(B5,'Minha Divulgação'!A:G,7,0) -> Outubro | D5: =VLOOKUP(B5,'Minha Divulgação'!A:J,10,0) -> 45218 | E5: =VLOOKUP(B5,'Minha Divulgação'!A:K,11,0) -> 45225 | F5: =VLOOKUP(B5,'Minha Divulgação'!A:D,4,0) -> CICLO 18_2023_Garrafas metalizadas. 750ml_19 10 23 | G5: =VLOOKUP(B5,'Minha Divulgação'!A:B,2,0) -> 0 | H5: =VLOOKUP(B5,'Minha Divulgação'!A:F,6,0) -> 202318 | I5: =VLOOKUP(B5,'Minha Divulgação'!A:S,24,0) -> #REF! | J5: =VLOOKUP(B5,'Minha Divulgação'!A:N,14,0) -> Presentes C&E | K5: =VLOOKUP(B5,'Minha Divulgação'!A:O,15,0) -> Casa &Estilo | L5: =VLOOKUP(B5,'Minha Divulgação'!A:O,16,0) -> #REF! | M5: =VLOOKUP(B5,'Minha Divulgação'!A:O,17,0) -> #REF! | N5: =VLOOKUP(B5,'Minha Divulgação'!A:O,18,0) -> #REF! | O5: =VLOOKUP(B5,'Minha Divulgação'!A:O,19,0) -> #REF! | P5: =VLOOKUP(B5,'Minha Divulgação'!A:O,20,0) -> #REF! | Q5: =VLOOKUP(B5,'Minha Divulgação'!A:H,8,0) -> 0 | R5: =VLOOKUP(B5,'Minha Divulgação'!A:I,9,0) -> Presentes Natal Avon
B6: 2 | C6: =VLOOKUP(B6,'Minha Divulgação'!A:G,7,0) -> Outubro | D6: =VLOOKUP(B6,'Minha Divulgação'!A:J,10,0) -> 45218 | E6: =VLOOKUP(B6,'Minha Divulgação'!A:K,11,0) -> 45225 | F6: =VLOOKUP(B6,'Minha Divulgação'!A:D,4,0) -> CICLO 18_2023_Garrafas metalizadas conceitual. 750ml_19 10 23 | G6: =VLOOKUP(B6,'Minha Divulgação'!A:B,2,0) -> 0 | H6: =VLOOKUP(B6,'Minha Divulgação'!A:F,6,0) -> 202318 | I6: =VLOOKUP(B6,'Minha Divulgação'!A:S,24,0) -> #REF! | J6: =VLOOKUP(B6,'Minha Divulgação'!A:N,14,0) -> Presentes C&E | K6: =VLOOKUP(B6,'Minha Divulgação'!A:O,15,0) -> Casa &Estilo | L6: =VLOOKUP(B6,'Minha Divulgação'!A:O,16,0) -> #REF! | M6: =VLOOKUP(B6,'Minha Divulgação'!A:O,17,0) -> #REF! | N6: =VLOOKUP(B6,'Minha Divulgação'!A:O,18,0) -> #REF! | O6: =VLOOKUP(B6,'Minha Divulgação'!A:O,19,0) -> #REF! | P6: =VLOOKUP(B6,'Minha Divulgação'!A:O,20,0) -> #REF! | Q6: =VLOOKUP(B6,'Minha Divulgação'!A:H,8,0) -> Presentes Natal Avon | R6: =VLOOKUP(B6,'Minha Divulgação'!A:I,9,0) -> Presentes Natal Avon
B7: 3 | C7: =VLOOKUP(B7,'Minha Divulgação'!A:G,7,0) -> Outubro | D7: =VLOOKUP(B7,'Minha Divulgação'!A:J,10,0) -> 45218 | E7: =VLOOKUP(B7,'Minha Divulgação'!A:K,11,0) -> 45225 | F7: =VLOOKUP(B7,'Minha Divulgação'!A:D,4,0) -> CICLO 18_2023_Copos glitter com canudo. 400 ml_19 10 23 | G7: =VLOOKUP(B7,'Minha Divulgação'!A:B,2,0) -> 0 | H7: =VLOOKUP(B7,'Minha Divulgação'!A:F,6,0) -> 202318 | I7: =VLOOKUP(B7,'Minha Divulgação'!A:S,24,0) -> #REF! | J7: =VLOOKUP(B7,'Minha Divulgação'!A:N,14,0) -> Presentes C&E | K7: =VLOOKUP(B7,'Minha Divulgação'!A:O,15,0) -> Casa &Estilo | L7: =VLOOKUP(B7,'Minha Divulgação'!A:O,16,0) -> #REF! | M7: =VLOOKUP(B7,'Minha Divulgação'!A:O,17,0) -> #REF! | N7: =VLOOKUP(B7,'Minha Divulgação'!A:O,18,0) -> #REF! | O7: =VLOOKUP(B7,'Minha Divulgação'!A:O,19,0) -> #REF! | P7: =VLOOKUP(B7,'Minha Divulgação'!A:O,20,0) -> #REF! | Q7: =VLOOKUP(B7,'Minha Divulgação'!A:H,8,0) -> 0 | R7: =VLOOKUP(B7,'Minha Divulgação'!A:I,9,0) -> Presentes Natal Avon
B8: 4 | C8: =VLOOKUP(B8,'Minha Divulgação'!A:G,7,0) -> Outubro | D8: =VLOOKUP(B8,'Minha Divulgação'!A:J,10,0) -> 45218 | E8: =VLOOKUP(B8,'Minha Divulgação'!A:K,11,0) -> 45225 | F8: =VLOOKUP(B8,'Minha Divulgação'!A:D,4,0) -> CICLO 18_2023_Presente Stich_19 10 23 | G8: =VLOOKUP(B8,'Minha Divulgação'!A:B,2,0) -> 0 | H8: =VLOOKUP(B8,'Minha Divulgação'!A:F,6,0) -> 202318 | I8: =VLOOKUP(B8,'Minha Divulgação'!A:S,24,0) -> #REF! | J8: =VLOOKUP(B8,'Minha Divulgação'!A:N,14,0) -> Presentes C&E | K8: =VLOOKUP(B8,'Minha Divulgação'!A:O,15,0) -> Casa &Estilo | L8: =VLOOKUP(B8,'Minha Divulgação'!A:O,16,0) -> #REF! | M8: =VLOOKUP(B8,'Minha Divulgação'!A:O,17,0) -> #REF! | N8: =VLOOKUP(B8,'Minha Divulgação'!A:O,18,0) -> #REF! | O8: =VLOOKUP(B8,'Minha Divulgação'!A:O,19,0) -> #REF! | P8: =VLOOKUP(B8,'Minha Divulgação'!A:O,20,0) -> #REF! | Q8: =VLOOKUP(B8,'Minha Divulgação'!A:H,8,0) -> 0 | R8: =VLOOKUP(B8,'Minha Divulgação'!A:I,9,0) -> Presentes Natal Avon
B9: 5 | C9: =VLOOKUP(B9,'Minha Divulgação'!A:G,7,0) -> Outubro | D9: =VLOOKUP(B9,'Minha Divulgação'!A:J,10,0) -> 45218 | E9: =VLOOKUP(B9,'Minha Divulgação'!A:K,11,0) -> 45225 | F9: =VLOOKUP(B9,'Minha Divulgação'!A:D,4,0) -> CICLO 18_2023_Jogo de 2 travessa de vidro com tampa_19 10 23 | G9: =VLOOKUP(B9,'Minha Divulgação'!A:B,2,0) -> 0 | H9: =VLOOKUP(B9,'Minha Divulgação'!A:F,6,0) -> 202318 | I9: =VLOOKUP(B9,'Minha Divulgação'!A:S,24,0) -> #REF! | J9: =VLOOKUP(B9,'Minha Divulgação'!A:N,14,0) -> Houseware | K9: =VLOOKUP(B9,'Minha Divulgação'!A:O,15,0) -> Casa &Estilo | L9: =VLOOKUP(B9,'Minha Divulgação'!A:O,16,0) -> #REF! | M9: =VLOOKUP(B9,'Minha Divulgação'!A:O,17,0) -> #REF! | N9: =VLOOKUP(B9,'Minha Divulgação'!A:O,18,0) -> #REF! | O9: =VLOOKUP(B9,'Minha Divulgação'!A:O,19,0) -> #REF! | P9: =VLOOKUP(B9,'Minha Divulgação'!A:O,20,0) -> #REF! | Q9: =VLOOKUP(B9,'Minha Divulgação'!A:H,8,0) -> 0 | R9: =VLOOKUP(B9,'Minha Divulgação'!A:I,9,0) -> Houseware
B10: 6 | C10: =VLOOKUP(B10,'Minha Divulgação'!A:G,7,0) -> Outubro | D10: =VLOOKUP(B10,'Minha Divulgação'!A:J,10,0) -> 45218 | E10: =VLOOKUP(B10,'Minha Divulgação'!A:K,11,0) -> 45225 | F10: =VLOOKUP(B10,'Minha Divulgação'!A:D,4,0) -> CICLO 18_2023_Jogo 2 Potes de Preparo Disney_19 10 23 | G10: =VLOOKUP(B10,'Minha Divulgação'!A:B,2,0) -> 0 | H10: =VLOOKUP(B10,'Minha Divulgação'!A:F,6,0) -> 202318 | I10: =VLOOKUP(B10,'Minha Divulgação'!A:S,24,0) -> #REF! | J10: =VLOOKUP(B10,'Minha Divulgação'!A:N,14,0) -> Houseware | K10: =VLOOKUP(B10,'Minha Divulgação'!A:O,15,0) -> Casa &Estilo | L10: =VLOOKUP(B10,'Minha Divulgação'!A:O,16,0) -> #REF! | M10: =VLOOKUP(B10,'Minha Divulgação'!A:O,17,0) -> #REF! | N10: =VLOOKUP(B10,'Minha Divulgação'!A:O,18,0) -> #REF! | O10: =VLOOKUP(B10,'Minha Divulgação'!A:O,19,0) -> #REF! | P10: =VLOOKUP(B10,'Minha Divulgação'!A:O,20,0) -> #REF! | Q10: =VLOOKUP(B10,'Minha Divulgação'!A:H,8,0) -> Houseware | R10: =VLOOKUP(B10,'Minha Divulgação'!A:I,9,0) -> Houseware
B11: 7 | C11: =VLOOKUP(B11,'Minha Divulgação'!A:G,7,0) -> Outubro | D11: =VLOOKUP(B11,'Minha Divulgação'!A:J,10,0) -> 45218 | E11: =VLOOKUP(B11,'Minha Divulgação'!A:K,11,0) -> 45225 | F11: =VLOOKUP(B11,'Minha Divulgação'!A:D,4,0) -> CICLO 18_2023_Presente Desejos_19 10 23 | G11: =VLOOKUP(B11,'Minha Divulgação'!A:B,2,0) -> 0 | H11: =VLOOKUP(B11,'Minha Divulgação'!A:F,6,0) -> 202318 | I11: =VLOOKUP(B11,'Minha Divulgação'!A:S,24,0) -> #REF! | J11: =VLOOKUP(B11,'Minha Divulgação'!A:N,14,0) -> Presentes | K11: =VLOOKUP(B11,'Minha Divulgação'!A:O,15,0) -> Maquiagem Avon | L11: =VLOOKUP(B11,'Minha Divulgação'!A:O,16,0) -> #REF! | M11: =VLOOKUP(B11,'Minha Divulgação'!A:O,17,0) -> #REF! | N11: =VLOOKUP(B11,'Minha Divulgação'!A:O,18,0) -> #REF! | O11: =VLOOKUP(B11,'Minha Divulgação'!A:O,19,0) -> #REF! | P11: =VLOOKUP(B11,'Minha Divulgação'!A:O,20,0) -> #REF! | Q11: =VLOOKUP(B11,'Minha Divulgação'!A:H,8,0) -> 0 | R11: =VLOOKUP(B11,'Minha Divulgação'!A:I,9,0) -> Presentes Natal Avon
B12: 8 | C12: =VLOOKUP(B12,'Minha Divulgação'!A:G,7,0) -> Outubro | D12: =VLOOKUP(B12,'Minha Divulgação'!A:J,10,0) -> 45218 | E12: =VLOOKUP(B12,'Minha Divulgação'!A:K,11,0) -> 45225 | F12: =VLOOKUP(B12,'Minha Divulgação'!A:D,4,0) -> CICLO 18_2023_Presente Maleta_19 10 23 | G12: =VLOOKUP(B12,'Minha Divulgação'!A:B,2,0) -> 0 | H12: =VLOOKUP(B12,'Minha Divulgação'!A:F,6,0) -> 202318 | I12: =VLOOKUP(B12,'Minha Divulgação'!A:S,24,0) -> #REF! | J12: =VLOOKUP(B12,'Minha Divulgação'!A:N,14,0) -> Presentes | K12: =VLOOKUP(B12,'Minha Divulgação'!A:O,15,0) -> Maquiagem Avon | L12: =VLOOKUP(B12,'Minha Divulgação'!A:O,16,0) -> #REF! | M12: =VLOOKUP(B12,'Minha Divulgação'!A:O,17,0) -> #REF! | N12: =VLOOKUP(B12,'Minha Divulgação'!A:O,18,0) -> #REF! | O12: =VLOOKUP(B12,'Minha Divulgação'!A:O,19,0) -> #REF! | P12: =VLOOKUP(B12,'Minha Divulgação'!A:O,20,0) -> #REF! | Q12: =VLOOKUP(B12,'Minha Divulgação'!A:H,8,0) -> 0 | R12: =VLOOKUP(B12,'Minha Divulgação'!A:I,9,0) -> Presentes Natal Avon
B13: 9 | C13: =VLOOKUP(B13,'Minha Divulgação'!A:G,7,0) -> Outubro | D13: =VLOOKUP(B13,'Minha Divulgação'!A:J,10,0) -> 45218 | E13: =VLOOKUP(B13,'Minha Divulgação'!A:K,11,0) -> 45225 | F13: =VLOOKUP(B13,'Minha Divulgação'!A:D,4,0) -> CICLO 18_2023_Brillho Rollete_19 10 23 | G13: =VLOOKUP(B13,'Minha Divulgação'!A:B,2,0) -> 0 | H13: =VLOOKUP(B13,'Minha Divulgação'!A:F,6,0) -> 202318 | I13: =VLOOKUP(B13,'Minha Divulgação'!A:S,24,0) -> #REF! | J13: =VLOOKUP(B13,'Minha Divulgação'!A:N,14,0) -> Maquiagem | K13: =VLOOKUP(B13,'Minha Divulgação'!A:O,15,0) -> Color Trend | L13: =VLOOKUP(B13,'Minha Divulgação'!A:O,16,0) -> #REF! | M13: =VLOOKUP(B13,'Minha Divulgação'!A:O,17,0) -> #REF! | N13: =VLOOKUP(B13,'Minha Divulgação'!A:O,18,0) -> #REF! | O13: =VLOOKUP(B13,'Minha Divulgação'!A:O,19,0) -> #REF! | P13: =VLOOKUP(B13,'Minha Divulgação'!A:O,20,0) -> #REF! | Q13: =VLOOKUP(B13,'Minha Divulgação'!A:H,8,0) -> 0 | R13: =VLOOKUP(B13,'Minha Divulgação'!A:I,9,0) -> 0
B14: 10 | C14: =VLOOKUP(B14,'Minha Divulgação'!A:G,7,0) -> Outubro | D14: =VLOOKUP(B14,'Minha Divulgação'!A:J,10,0) -> 45218 | E14: =VLOOKUP(B14,'Minha Divulgação'!A:K,11,0) -> 45225 | F14: =VLOOKUP(B14,'Minha Divulgação'!A:D,4,0) -> CICLO 18_2023_Renew Ultimate_19 10 23 | G14: =VLOOKUP(B14,'Minha Divulgação'!A:B,2,0) -> 0 | H14: =VLOOKUP(B14,'Minha Divulgação'!A:F,6,0) -> 202318 | I14: =VLOOKUP(B14,'Minha Divulgação'!A:S,24,0) -> #REF! | J14: =VLOOKUP(B14,'Minha Divulgação'!A:N,14,0) -> Face Care | K14: =VLOOKUP(B14,'Minha Divulgação'!A:O,15,0) -> Renew | L14: =VLOOKUP(B14,'Minha Divulgação'!A:O,16,0) -> #REF! | M14: =VLOOKUP(B14,'Minha Divulgação'!A:O,17,0) -> #REF! | N14: =VLOOKUP(B14,'Minha Divulgação'!A:O,18,0) -> #REF! | O14: =VLOOKUP(B14,'Minha Divulgação'!A:O,19,0) -> #REF! | P14: =VLOOKUP(B14,'Minha Divulgação'!A:O,20,0) -> #REF! | Q14: =VLOOKUP(B14,'Minha Divulgação'!A:H,8,0) -> 0 | R14: =VLOOKUP(B14,'Minha Divulgação'!A:I,9,0) -> 0
B15: 11 | C15: =VLOOKUP(B15,'Minha Divulgação'!A:G,7,0) -> Outubro | D15: =VLOOKUP(B15,'Minha Divulgação'!A:J,10,0) -> 45218 | E15: =VLOOKUP(B15,'Minha Divulgação'!A:K,11,0) -> 45225 | F15: =VLOOKUP(B15,'Minha Divulgação'!A:D,4,0) -> CICLO 18_2023_Loção corporal AC. 700ml_19 10 23 | G15: =VLOOKUP(B15,'Minha Divulgação'!A:B,2,0) -> 0 | H15: =VLOOKUP(B15,'Minha Divulgação'!A:F,6,0) -> 202318 | I15: =VLOOKUP(B15,'Minha Divulgação'!A:S,24,0) -> #REF! | J15: =VLOOKUP(B15,'Minha Divulgação'!A:N,14,0) -> Body Care | K15: =VLOOKUP(B15,'Minha Divulgação'!A:O,15,0) -> Avon Care | L15: =VLOOKUP(B15,'Minha Divulgação'!A:O,16,0) -> #REF! | M15: =VLOOKUP(B15,'Minha Divulgação'!A:O,17,0) -> #REF! | N15: =VLOOKUP(B15,'Minha Divulgação'!A:O,18,0) -> #REF! | O15: =VLOOKUP(B15,'Minha Divulgação'!A:O,19,0) -> #REF! | P15: =VLOOKUP(B15,'Minha Divulgação'!A:O,20,0) -> #REF! | Q15: =VLOOKUP(B15,'Minha Divulgação'!A:H,8,0) -> 45216 | R15: =VLOOKUP(B15,'Minha Divulgação'!A:I,9,0) -> 45225
... B2004: 2000 | C2004: =VLOOKUP(B2004,'Minha Divulgação'!A:G,7,0) -> #N/A | D2004: =VLOOKUP(B2004,'Minha Divulgação'!A:J,10,0) -> #N/A | E2004: =VLOOKUP(B2004,'Minha Divulgação'!A:K,11,0) -> #N/A | F2004: =VLOOKUP(B2004,'Minha Divulgação'!A:D,4,0) -> #N/A | G2004: =VLOOKUP(B2004,'Minha Divulgação'!A:B,2,0) -> #N/A | H2004: =VLOOKUP(B2004,'Minha Divulgação'!A:F,6,0) -> #N/A | I2004: =VLOOKUP(B2004,'Minha Divulgação'!A:S,24,0) -> #N/A | J2004: =VLOOKUP(B2004,'Minha Divulgação'!A:N,14,0) -> #N/A | K2004: =VLOOKUP(B2004,'Minha Divulgação'!A:O,15,0) -> #N/A | L2004: =VLOOKUP(B2004,'Minha Divulgação'!A:O,16,0) -> #N/A | M2004: =VLOOKUP(B2004,'Minha Divulgação'!A:O,17,0) -> #N/A | N2004: =VLOOKUP(B2004,'Minha Divulgação'!A:O,18,0) -> #N/A | O2004: =VLOOKUP(B2004,'Minha Divulgação'!A:O,19,0) -> #N/A | P2004: =VLOOKUP(B2004,'Minha Divulgação'!A:O,20,0) -> #N/A | Q2004: =VLOOKUP(B2004,'Minha Divulgação'!A:H,8,0) -> #N/A | R2004: =VLOOKUP(B2004,'Minha Divulgação'!A:I,9,0) -> #N/A

Sheet Sessão
A1: Nome | B1: Sessão | C1: Situação | D1: Tags | E1: Data criação
A2: Relacionamento | B2: 6361 | C2: Perene | D2: relacionamento, ​dicas​, dica, conversa com cliente,​ tutorial, tutoriais, ​passo a passo, conversa | AD2: =PROCV(@AF:AF;'Sessão'!B:B
A3: Destaques | B3: 1737 | C3: Perene | D3: dicas, lançamento, lançamentos, lancamento, lacamentos, novidade, novidades, benefícios, beneficio, novo, novidade
A4: Imagens para editar | B4: 1740 | C4: Perene | D4: personalizar, editar, texto, sem texto, foto, produto
A5: Ofertas | B5: 1822 | C5: Perene | D5: promoção, promocao, promo, desconto, barato, oferta, ofertas, jornal
A6: Vídeos | B6: 1877 | C6: Perene
A7: Por um mundo | B7: 1879 | C7: Perene | D7: natura,​ causa​, natureza​, refil,​ sustentabilidade, natureza, amazonia, oceano, reciclagem, amazonia, amazônia, viva, transborde, pulsante
A8: Presentes e outras datas comemorativas | B8: 28396 | C8: Perene | D8: presente, presentes, kit, lembrancinha, lembrança, conjunto, mimo, combo, natal, ano, novo, amigo, secreto, confraternização
A9: Espaço digital | B9: 47661 | C9: Perene | D9: espaço digital, espaco digital, ​promoção, promocao, descontos​, desconto, cupom, cupon, frete grátis,​ frete, frete grats, frete grátis, loja virtual, espaço digital, espaco digital​, site, site natura, oferta
A10: Status e stories | B10: 99226 | C10: Perene | D10: stories, status, hisória, vertical, estatus, estories
A11: Oportunidades revista interativa | B11: 167931 | C11: Perene | D11: promoção, promocao, promo, desconto, barato, oferta, ofertas, exclusiva, oportunidade, relampago, relâmpago, presente, revista, interativa, espaço, espaco, natura,
B12: 180881

Sheet TAGS
A1: Marca | B1: TAGS | D1: Categoria | E1: TAGS | G1: Ciclo | H1: TAGS

Sheet Calendário do ciclo 
B1: CICLO 13 | E1: 45114 | F1: 45118 | G1: 45121 | H1: 45125 | I1: 45128
B2: 07/07 até 27/07 | E2: CICLO13_Jornal_de_ofertas1 | F2: CICLO13_Jornal_de_ofertas2 | G2: CICLO13_Jornal_de_ofertas3 | H2: CICLO13_Jornal_de_ofertas4
E3: CICLO13_Tododia_todanoite_lancamento | F3: CICLO13_Chronos_serum_intensivo_antioxidante_lancamento | G3: CICLO13_Plant_liso_e_solto_promocao | H3: CICLO13_Essencial_supreme_casal_promocao
B4: Subidas: | E4: CICLO13_Tododia_todanoite_relacionamento_ritual_do_sono | F4: CICLO13_Chronos_serum_intensivo_antioxidante_promocao | G4: CICLO13_Luna_promocao | H4: CICLO13_Essencial_classico_deo_spray_casal_promocao
B5: Peças fixas | C5: 6 peças fixas (4 jornais + 2 RI) | E5: CICLO13_Tododia_todanoite_autocuidado_relaxante | F5: CICLO13_Movimento_magenta_conceitual | G5: CICLO13_Kaiak_aventura_casal_promocao | H5: CICLO13_Exclusivo_RI_MMBB_creme_assaduras_promocao
B6: Capacidade de produção: | C6: 24 peças | E6: CICLO13_Tododia_todanoite_promoção | F6: CICLO13_Movimento_magenta_combo_una_artisan_promocao | G6: CICLO13_Kaiak_oceano_casal_promocao
B8: CICLO 14 | C8: Subidas: | D8: 44770 | E8: 44774 | F8: 44777 | G8: 44781
B9: 28/07 até 10/08 | C9: Peças fixas | D9: 6 peças fixas (4 jornais + 2 RI)
C10: Capacidade de produção: | D10: 14 peças
B12: CICLO 15 | C12: Subidas: | D12: 44784 | E12: 44788 | F12: 44791 | G12: 44795 | H12: 44798 | I12: 44802
B13: 11/08 até 31/08 | C13: Peças fixas | D13: 6 peças fixas (4 jornais + 2 RI)
C14: Capacidade de produção: | D14: 24 peças
B16: CICLO 16 | C16: Subidas: | D16: 44805 | E16: 44809 | F16: 44812 | G16: 44816 | H16: 44819 | I16: 44823
B17: 01/09 até 21/09 | C17: Peças fixas | D17: 6 peças fixas (4 jornais + 2 RI)
C18: Capacidade de produção: | D18: 24 peças
B20: CICLO 17 | C20: Subidas: | D20: 44826 | E20: 44830 | F20: 44833 | G20: 44837
B21: 22/09 até 05/10 | C21: Peças fixas | D21: 6 peças fixas (4 jornais + 2 RI)
C22: Capacidade de produção: | D22: 14 peças
B24: CICLO 18 | C24: Subidas: | D24: 44840 | E24: 44844 | F24: 44847 | G24: 44851 | H24: 44854 | I24: 44858
B25: 06/10 até 26/10 | C25: Peças fixas | D25: 6 peças fixas (4 jornais + 2 RI)
C26: Capacidade de produção: | D26: 24 peças
B28: CICLO 19 | C28: Subidas: | D28: 44861 | E28: 44865 | F28: 44868 | G28: 44872
B29: 27/10 até 09/11 | C29: Peças fixas | D29: 6 peças fixas (4 jornais + 2 RI)
C30: Capacidade de produção: | D30: 14 peças
B32: CICLO 20 | C32: Subidas: | D32: 44875 | E32: 44879 | F32: 44882 | G32: 44886 | H32: 44889 | I32: 44893
B33: 10/11 até 30/11 | C33: Peças fixas | D33: 6 peças fixas (4 jornais + 2 RI)
C34: Capacidade de produção: | D34: 24 peças
