Workbook

Sheet BASE - Geral
Q1: CP04 | T1: CP05 | W1: CP06 | Z1: CP07
A2: PRESENTES | B2: GROT | C2: PLANNER | D2: CATEGORIA | E2: PLANEJADOR | F2: PROFILE | G2: FSC | H2: DESCRIÇÃO | I2: VIDA | J2: SKT TOTAL | K2: FALTA PROD W ATUAL | L2: ORDENS W+1 | M2: ORDENS W+2 | N2: TOTAL A PRODUZIR | O2: FALTA PÓS PROD CP02 | P2: FALTA PÓS PROD CP03 | Q2: DEMANDA | R2: % COB | S2: FALTA | T2: DEMANDA | U2: % COB | V2: FALTA | W2: DEMANDA | X2: % COB | Y2: FALTA | Z2: DEMANDA | AA2: % COB | AB2: FALTA | AC2: % COB + Prod Semana ABERTURA | AD2: % COB + POS Abertura
A3: NATAL | C3: BR3FS | D3: SKIN CARE | E3: MARCELLY ROLDAN | F3: 1229665 | G3: 1493955 | H3: LOCAO CORP SURREAL GARDEN 90ML | I3: 02 - Active - CM | J3: 29193 | K3: 0 | L3: 0 | M3: 0 | N3: 0 | O3: 0 | P3: 0 | Q3: 6608 | R3: 1 | S3: 0 | T3: 552 | U3: 1 | V3: 0 | AC3: =IF(Q3=0,100%,IF((J3+K3)/Q3>100%,100%,IF(($J3+K3)/$Q3<0,0,($J3+K3)/$Q3))) -> 1 | AD3: =IF(Q3=0,100%,IF((J3+K3+L3)/Q3>100%,100%,IF(($J3+K3+L3)/$Q3<0,0,($J3+K3+L3)/$Q3))) -> 1
A4: NATAL | C4: BRG02 | D4: COLOR I | E4: RENATA SOUZA | F4: 1227412 | G4: 1445772 | H4: CAIXA SEGNO MINI | I4: 03 - Phase Out - CM | J4: 18772 | K4: 0 | L4: 0 | M4: 0 | N4: 0 | O4: 0 | P4: 0 | Q4: 1123 | R4: 1 | S4: 0 | T4: 480 | U4: 1 | V4: 0 | AC4: =IF(Q4=0,100%,IF((J4+K4)/Q4>100%,100%,IF(($J4+K4)/$Q4<0,0,($J4+K4)/$Q4))) -> 1 | AD4: =IF(Q4=0,100%,IF((J4+K4+L4)/Q4>100%,100%,IF(($J4+K4+L4)/$Q4<0,0,($J4+K4+L4)/$Q4))) -> 1
A5: NATAL | C5: BRG02 | D5: COLOR I | E5: RENATA SOUZA | F5: 1222176 | G5: 1376739 | H5: CT LAPIS SOBRANCELHAS ESCURO | I5: 02 - Active - CM | J5: 27895 | K5: 40000 | L5: 0 | M5: 0 | N5: 40000 | O5: 0 | P5: 0 | Q5: 12629 | R5: 1 | S5: 0 | T5: 9779 | U5: 1 | V5: 0 | AC5: =IF(Q5=0,100%,IF((J5+K5)/Q5>100%,100%,IF(($J5+K5)/$Q5<0,0,($J5+K5)/$Q5))) -> 1 | AD5: =IF(Q5=0,100%,IF((J5+K5+L5)/Q5>100%,100%,IF(($J5+K5+L5)/$Q5<0,0,($J5+K5+L5)/$Q5))) -> 1
A6: NATAL | B6: R0505 - 05/12/2022 - 29/11 - O item está previsto para ser coletado hoje no porto de em Itajaí-SC, assim que chegar ao estoque, pediremos a subida do material para Anastácio São Paulo e anteciparão a entrega em 2 dias. | C6: BR6FS | D6: PERSONAL CARE | E6: CESAR NETO | F6: 1231760 | G6: 1499433 | H6: AC LOCAO CORP BABY CALMING | I6: 02 - Active - CM | J6: 18801 | K6: 31000 | L6: 18000 | M6: 0 | N6: 49000 | O6: 0 | P6: 0 | Q6: 19675 | R6: 0.96 | S6: 874 | T6: 29630 | U6: 0 | V6: 29630 | AC6: =IF(Q6=0,100%,IF((J6+K6)/Q6>100%,100%,IF(($J6+K6)/$Q6<0,0,($J6+K6)/$Q6))) -> 1 | AD6: =IF(Q6=0,100%,IF((J6+K6+L6)/Q6>100%,100%,IF(($J6+K6+L6)/$Q6<0,0,($J6+K6+L6)/$Q6))) -> 1
A7: NATAL | C7: BR3FS | D7: SKIN CARE | E7: MARCELLY ROLDAN | F7: 1229869 | G7: 1472711 | H7: CREME MAOS IRRESISTIVEL 30G | I7: 02 - Active - CM | J7: 48606 | K7: 20000 | L7: 0 | M7: 0 | N7: 20000 | O7: 0 | P7: 0 | Q7: 21041 | R7: 1 | S7: 0 | T7: 4833 | U7: 1 | V7: 0 | AC7: =IF(Q7=0,100%,IF((J7+K7)/Q7>100%,100%,IF(($J7+K7)/$Q7<0,0,($J7+K7)/$Q7))) -> 1 | AD7: =IF(Q7=0,100%,IF((J7+K7+L7)/Q7>100%,100%,IF(($J7+K7+L7)/$Q7<0,0,($J7+K7+L7)/$Q7))) -> 1
A8: NATAL | B8: R105960 - 13/12/2022 - 08/11 - Fabricante antecipou a produção, previsão de ficar disponível na origem em 15/11 para embarque aéreo; | C8: BR4FS | D8: PERSONAL CARE | E8: CESAR NETO | F8: 1221720 | G8: 1341738 | H8: LOCAO LIMP MINI AGUA MICELAR | I8: 02 - Active - CM | J8: 41411 | K8: 0 | L8: 0 | M8: 0 | N8: 0 | O8: 0 | P8: 0 | Q8: 462 | R8: 1 | S8: 0 | T8: 1313 | U8: 1 | V8: 0 | AC8: =IF(Q8=0,100%,IF((J8+K8)/Q8>100%,100%,IF(($J8+K8)/$Q8<0,0,($J8+K8)/$Q8))) -> 1 | AD8: =IF(Q8=0,100%,IF((J8+K8+L8)/Q8>100%,100%,IF(($J8+K8+L8)/$Q8<0,0,($J8+K8+L8)/$Q8))) -> 1
A9: NATAL | C9: BR1TP | D9: FRAGRANCE | E9: ANA CAROLINA FARIA | F9: 1227313 | G9: 1475636 | H9: COL FULL SPEED QUANTUM 100ML | I9: 02 - Active - CM | J9: 24338 | K9: 5401 | L9: 45000 | M9: 0 | N9: 50401 | O9: 0 | P9: 0 | Q9: 4260 | R9: 1 | S9: 0 | T9: 14557 | U9: 1 | V9: 0 | AC9: =IF(Q9=0,100%,IF((J9+K9)/Q9>100%,100%,IF(($J9+K9)/$Q9<0,0,($J9+K9)/$Q9))) -> 1 | AD9: =IF(Q9=0,100%,IF((J9+K9+L9)/Q9>100%,100%,IF(($J9+K9+L9)/$Q9<0,0,($J9+K9+L9)/$Q9))) -> 1
A10: NATAL | B10: R0505 - 05/12/2022 - 29/11 - O item está previsto para ser coletado hoje no porto de em Itajaí-SC, assim que chegar ao estoque, pediremos a subida do material para Anastácio São Paulo e anteciparão a entrega em 2 dias. | C10: BR3FS | D10: SKIN CARE | E10: MARCELLY ROLDAN | F10: 1227295 | G10: 1475825 | H10: LOCAO CORP FAR AWAY SPLENDORIA | I10: 02 - Active - CM | J10: 22555 | K10: 0 | L10: 0 | M10: 0 | N10: 0 | O10: 0 | P10: 0 | Q10: 7528 | R10: 1 | S10: 0 | T10: 959 | U10: 1 | V10: 0 | AC10: =IF(Q10=0,100%,IF((J10+K10)/Q10>100%,100%,IF(($J10+K10)/$Q10<0,0,($J10+K10)/$Q10))) -> 1 | AD10: =IF(Q10=0,100%,IF((J10+K10+L10)/Q10>100%,100%,IF(($J10+K10+L10)/$Q10<0,0,($J10+K10+L10)/$Q10))) -> 1
A11: NATAL | C11: BRG04 | D11: OV | E11: RENATA SOUZA | F11: 1225954 | G11: 1419191 | H11: SABONETE BAR ENC FASCIN SOFIST | I11: 02 - Active - CM | J11: 51966 | K11: 0 | L11: 0 | M11: 0 | N11: 0 | O11: 0 | P11: 0 | Q11: 10661 | R11: 1 | S11: 0 | T11: 185 | U11: 1 | V11: 0 | AC11: =IF(Q11=0,100%,IF((J11+K11)/Q11>100%,100%,IF(($J11+K11)/$Q11<0,0,($J11+K11)/$Q11))) -> 1 | AD11: =IF(Q11=0,100%,IF((J11+K11+L11)/Q11>100%,100%,IF(($J11+K11+L11)/$Q11<0,0,($J11+K11+L11)/$Q11))) -> 1
A12: NATAL | B12: R105960 - 13/12/2022 - 08/11 - Fabricante antecipou a produção, previsão de ficar disponível na origem em 15/11 para embarque aéreo; | C12: BR4FS | D12: PERSONAL CARE | E12: CESAR NETO | F12: 1221208 | G12: 1341721 | H12: NOVA AGUA MICELAR ANTI IDADE | I12: 02 - Active - CM | J12: 18306 | K12: 0 | L12: 30000 | M12: 0 | N12: 30000 | O12: 0 | P12: 0 | Q12: 8015 | R12: 1 | S12: 0 | T12: 3522 | U12: 1 | V12: 0 | AC12: =IF(Q12=0,100%,IF((J12+K12)/Q12>100%,100%,IF(($J12+K12)/$Q12<0,0,($J12+K12)/$Q12))) -> 1 | AD12: =IF(Q12=0,100%,IF((J12+K12+L12)/Q12>100%,100%,IF(($J12+K12+L12)/$Q12<0,0,($J12+K12+L12)/$Q12))) -> 1
A13: NATAL | C13: BRG02 | D13: COLOR I | E13: RENATA SOUZA | F13: 1232260 | G13: 1500866 | H13: CAIXA COLECAO WONDERLAND | I13: 04 - Discontinued - CM | J13: 8803 | K13: 0 | L13: 0 | M13: 0 | N13: 0 | O13: 0 | P13: 0 | Q13: 406 | R13: 1 | S13: 0 | T13: 0 | U13: 1 | V13: 0 | AC13: =IF(Q13=0,100%,IF((J13+K13)/Q13>100%,100%,IF(($J13+K13)/$Q13<0,0,($J13+K13)/$Q13))) -> 1 | AD13: =IF(Q13=0,100%,IF((J13+K13+L13)/Q13>100%,100%,IF(($J13+K13+L13)/$Q13<0,0,($J13+K13+L13)/$Q13))) -> 1
A14: NATAL | C14: BR1TP | D14: FRAGRANCE | E14: ANA CAROLINA FARIA | F14: 1230571 | G14: 1486151 | H14: COL EXCLUSIVE IN BLACK 75ML | I14: 02 - Active - CM | J14: 40694 | K14: 467 | L14: 30000 | M14: 0 | N14: 30467 | O14: 0 | P14: 0 | Q14: 10413 | R14: 1 | S14: 0 | T14: 2160 | U14: 1 | V14: 0 | AC14: =IF(Q14=0,100%,IF((J14+K14)/Q14>100%,100%,IF(($J14+K14)/$Q14<0,0,($J14+K14)/$Q14))) -> 1 | AD14: =IF(Q14=0,100%,IF((J14+K14+L14)/Q14>100%,100%,IF(($J14+K14+L14)/$Q14<0,0,($J14+K14+L14)/$Q14))) -> 1
A15: NATAL | C15: BRG02 | D15: COLOR I | E15: RENATA SOUZA | F15: 1230314 | G15: 1475863 | H15: CAIXA LOV U ESPECIAL MAES 2022 | I15: 02 - Active - CM | J15: 45280 | K15: 0 | L15: 0 | M15: 0 | N15: 0 | O15: 0 | P15: 0 | Q15: 1185 | R15: 1 | S15: 0 | T15: 0 | U15: 1 | V15: 0 | AC15: =IF(Q15=0,100%,IF((J15+K15)/Q15>100%,100%,IF(($J15+K15)/$Q15<0,0,($J15+K15)/$Q15))) -> 1 | AD15: =IF(Q15=0,100%,IF((J15+K15+L15)/Q15>100%,100%,IF(($J15+K15+L15)/$Q15<0,0,($J15+K15+L15)/$Q15))) -> 1
A16: NATAL | C16: BR0CB | D16: COLOR I | E16: RENATA SOUZA | F16: 1227984 | G16: 1483631 | H16: ESMALTE WONDERL TESOUR GUARDAD | I16: 02 - Active - CM | J16: 31583 | K16: 0 | L16: 0 | M16: 0 | N16: 0 | O16: 0 | P16: 0 | Q16: 8760 | R16: 1 | S16: 0 | T16: 6001 | U16: 1 | V16: 0 | AC16: =IF(Q16=0,100%,IF((J16+K16)/Q16>100%,100%,IF(($J16+K16)/$Q16<0,0,($J16+K16)/$Q16))) -> 1 | AD16: =IF(Q16=0,100%,IF((J16+K16+L16)/Q16>100%,100%,IF(($J16+K16+L16)/$Q16<0,0,($J16+K16+L16)/$Q16))) -> 1
A17: NATAL | C17: BR3FS | D17: SKIN CARE | E17: MARCELLY ROLDAN | F17: 1226638 | G17: 1465877 | H17: SHAMPOO SEGNO IMPART CAB CORPO | I17: 02 - Active - CM | J17: 33170 | K17: 0 | L17: 0 | M17: 0 | N17: 0 | O17: 0 | P17: 0 | Q17: 73 | R17: 1 | S17: 0 | T17: 501 | U17: 1 | V17: 0 | AC17: =IF(Q17=0,100%,IF((J17+K17)/Q17>100%,100%,IF(($J17+K17)/$Q17<0,0,($J17+K17)/$Q17))) -> 1 | AD17: =IF(Q17=0,100%,IF((J17+K17+L17)/Q17>100%,100%,IF(($J17+K17+L17)/$Q17<0,0,($J17+K17+L17)/$Q17))) -> 1
A18: NATAL | C18: BRG10 | D18: FRAGRANCE | E18: ANA CAROLINA FARIA | F18: 1224296 | G18: 1444366 | H18: SABONETE BAR FROZEN RELABEL | I18: 03 - Phase Out - CM | J18: 19357 | K18: 0 | L18: 30000 | M18: 0 | N18: 30000 | O18: 0 | P18: 0 | Q18: 17251 | R18: 1 | S18: 0 | T18: 7688 | U18: 0.27 | V18: 5582 | AC18: =IF(Q18=0,100%,IF((J18+K18)/Q18>100%,100%,IF(($J18+K18)/$Q18<0,0,($J18+K18)/$Q18))) -> 1 | AD18: =IF(Q18=0,100%,IF((J18+K18+L18)/Q18>100%,100%,IF(($J18+K18+L18)/$Q18<0,0,($J18+K18+L18)/$Q18))) -> 1
A19: NATAL | C19: BR1TP | D19: FRAGRANCE | E19: ANA CAROLINA FARIA | F19: 1229934 | G19: 1472918 | H19: SPRAY CORPO IRRESISTIVEL 80ML | I19: 02 - Active - CM | J19: 5244 | K19: 18000 | L19: 0 | M19: 0 | N19: 18000 | O19: 0 | P19: 0 | Q19: 569 | R19: 1 | S19: 0 | T19: 1730 | U19: 1 | V19: 0 | AC19: =IF(Q19=0,100%,IF((J19+K19)/Q19>100%,100%,IF(($J19+K19)/$Q19<0,0,($J19+K19)/$Q19))) -> 1 | AD19: =IF(Q19=0,100%,IF((J19+K19+L19)/Q19>100%,100%,IF(($J19+K19+L19)/$Q19<0,0,($J19+K19+L19)/$Q19))) -> 1
A20: NATAL | C20: BR1TP | D20: FRAGRANCE | E20: ANA CAROLINA FARIA | F20: 1226455 | G20: 1406455 | H20: COLONIA DEO SURFER 300 KMH | I20: 02 - Active - CM | J20: 15490 | K20: 1363 | L20: 25000 | M20: 0 | N20: 26363 | O20: 0 | P20: 0 | Q20: 4762 | R20: 1 | S20: 0 | T20: 1246 | U20: 1 | V20: 0 | AC20: =IF(Q20=0,100%,IF((J20+K20)/Q20>100%,100%,IF(($J20+K20)/$Q20<0,0,($J20+K20)/$Q20))) -> 1 | AD20: =IF(Q20=0,100%,IF((J20+K20+L20)/Q20>100%,100%,IF(($J20+K20+L20)/$Q20<0,0,($J20+K20+L20)/$Q20))) -> 1
A21: NATAL | C21: BR6FS | D21: PERSONAL CARE | E21: CESAR NETO | F21: 1229854 | G21: 1472708 | H21: LOCAO CORPO IRRESISTI REF 80ML | I21: 02 - Active - CM | J21: 21153 | K21: 0 | L21: 0 | M21: 0 | N21: 0 | O21: 0 | P21: 0 | Q21: 10556 | R21: 1 | S21: 0 | T21: 347 | U21: 1 | V21: 0 | AC21: =IF(Q21=0,100%,IF((J21+K21)/Q21>100%,100%,IF(($J21+K21)/$Q21<0,0,($J21+K21)/$Q21))) -> 1 | AD21: =IF(Q21=0,100%,IF((J21+K21+L21)/Q21>100%,100%,IF(($J21+K21+L21)/$Q21<0,0,($J21+K21+L21)/$Q21))) -> 1
A22: NATAL | C22: BR4FS | D22: PERSONAL CARE | E22: CESAR NETO | F22: 1228019 | G22: 1454186 | H22: OLEO CORP DES ATTRACT COL 80ML | I22: 02 - Active - CM | J22: 21818 | K22: 20000 | L22: 0 | M22: 0 | N22: 20000 | O22: 0 | P22: 0 | Q22: 66 | R22: 1 | S22: 0 | T22: 0 | U22: 1 | V22: 0 | AC22: =IF(Q22=0,100%,IF((J22+K22)/Q22>100%,100%,IF(($J22+K22)/$Q22<0,0,($J22+K22)/$Q22))) -> 1 | AD22: =IF(Q22=0,100%,IF((J22+K22+L22)/Q22>100%,100%,IF(($J22+K22+L22)/$Q22<0,0,($J22+K22+L22)/$Q22))) -> 1
A23: NATAL | C23: BR3FS | D23: SKIN CARE | E23: MARCELLY ROLDAN | F23: 1229662 | G23: 1484351 | H23: GEL PARA BARBA FULL SPEED TURB | I23: 02 - Active - CM | J23: 18076 | K23: 15000 | L23: 0 | M23: 0 | N23: 15000 | O23: 0 | P23: 0 | Q23: 13484 | R23: 1 | S23: 0 | T23: 4738 | U23: 0.97 | V23: 146 | AC23: =IF(Q23=0,100%,IF((J23+K23)/Q23>100%,100%,IF(($J23+K23)/$Q23<0,0,($J23+K23)/$Q23))) -> 1 | AD23: =IF(Q23=0,100%,IF((J23+K23+L23)/Q23>100%,100%,IF(($J23+K23+L23)/$Q23<0,0,($J23+K23+L23)/$Q23))) -> 1
A24: NATAL | C24: BR1TP | D24: FRAGRANCE | E24: ANA CAROLINA FARIA | F24: 1227361 | G24: 1484970 | H24: COL DES MUSK INSTINC SPLA 90ML | I24: 02 - Active - CM | J24: 50646 | K24: 50000 | L24: 5000 | M24: 0 | N24: 55000 | O24: 0 | P24: 0 | Q24: 22481 | R24: 1 | S24: 0 | T24: 27713 | U24: 1 | V24: 0 | AC24: =IF(Q24=0,100%,IF((J24+K24)/Q24>100%,100%,IF(($J24+K24)/$Q24<0,0,($J24+K24)/$Q24))) -> 1 | AD24: =IF(Q24=0,100%,IF((J24+K24+L24)/Q24>100%,100%,IF(($J24+K24+L24)/$Q24<0,0,($J24+K24+L24)/$Q24))) -> 1
A25: NATAL | C25: BR1TP | D25: FRAGRANCE | E25: ANA CAROLINA FARIA | F25: 1226631 | G25: 1446416 | H25: COL DES SEGNO IMPACT EDP | I25: 02 - Active - CM | J25: 15453 | K25: 0 | L25: 17000 | M25: 0 | N25: 17000 | O25: 0 | P25: 6416 | Q25: 31367 | R25: 0.49 | S25: 15914 | T25: 7502 | U25: 0 | V25: 7502 | AC25: =IF(Q25=0,100%,IF((J25+K25)/Q25>100%,100%,IF(($J25+K25)/$Q25<0,0,($J25+K25)/$Q25))) -> 0.49265151 | AD25: =IF(Q25=0,100%,IF((J25+K25+L25)/Q25>100%,100%,IF(($J25+K25+L25)/$Q25<0,0,($J25+K25+L25)/$Q25))) -> 1
A26: NATAL | B26: R0505 - 05/12/2022 - 29/11 - O item está previsto para ser coletado hoje no porto de em Itajaí-SC, assim que chegar ao estoque, pediremos a subida do material para Anastácio São Paulo e anteciparão a entrega em 2 dias. | C26: BR3FS | D26: SKIN CARE | E26: MARCELLY ROLDAN | F26: 1229666 | G26: 1493956 | H26: LOCAO PERF CP PUR BLANCA 90ML | I26: 02 - Active - CM | J26: 47237 | K26: 0 | L26: 0 | M26: 0 | N26: 0 | O26: 0 | P26: 0 | Q26: 15084 | R26: 1 | S26: 0 | T26: 359 | U26: 1 | V26: 0 | AC26: =IF(Q26=0,100%,IF((J26+K26)/Q26>100%,100%,IF(($J26+K26)/$Q26<0,0,($J26+K26)/$Q26))) -> 1 | AD26: =IF(Q26=0,100%,IF((J26+K26+L26)/Q26>100%,100%,IF(($J26+K26+L26)/$Q26<0,0,($J26+K26+L26)/$Q26))) -> 1
A27: NATAL | C27: BR1TP | D27: FRAGRANCE | E27: ANA CAROLINA FARIA | F27: 1232045 | G27: 1499432 | H27: AGUA COLONIA BADY PLUTO 100 ML | I27: 02 - Active - CM | J27: 40639 | K27: 30947 | L27: 0 | M27: 30000 | N27: 60947 | O27: 0 | P27: 0 | Q27: 9718 | R27: 1 | S27: 0 | T27: 5784 | U27: 1 | V27: 0 | AC27: =IF(Q27=0,100%,IF((J27+K27)/Q27>100%,100%,IF(($J27+K27)/$Q27<0,0,($J27+K27)/$Q27))) -> 1 | AD27: =IF(Q27=0,100%,IF((J27+K27+L27)/Q27>100%,100%,IF(($J27+K27+L27)/$Q27<0,0,($J27+K27+L27)/$Q27))) -> 1
A28: NATAL | B28: C2321767 - 12/12/2022 - 0 | C28: BR3FS | D28: SKIN CARE | E28: MARCELLY ROLDAN | F28: 1228773 | G28: 1492059 | H28: CREME MAOS ENCA ATRA DESL 75G | I28: 02 - Active - CM | J28: 12818 | K28: 0 | L28: 15000 | M28: 0 | N28: 15000 | O28: 0 | P28: 0 | Q28: 7257 | R28: 1 | S28: 0 | T28: 3920 | U28: 1 | V28: 0 | AC28: =IF(Q28=0,100%,IF((J28+K28)/Q28>100%,100%,IF(($J28+K28)/$Q28<0,0,($J28+K28)/$Q28))) -> 1 | AD28: =IF(Q28=0,100%,IF((J28+K28+L28)/Q28>100%,100%,IF(($J28+K28+L28)/$Q28<0,0,($J28+K28+L28)/$Q28))) -> 1
A29: NATAL | B29: R0505 - 05/12/2022 - 29/11 - O item está previsto para ser coletado hoje no porto de em Itajaí-SC, assim que chegar ao estoque, pediremos a subida do material para Anastácio São Paulo e anteciparão a entrega em 2 dias. | C29: BR3FS | D29: SKIN CARE | E29: MARCELLY ROLDAN | F29: 1229478 | G29: 1487220 | H29: LOC CP DES PETIT GIRL POWR 50M | I29: 02 - Active - CM | J29: 32991 | K29: 0 | L29: 30000 | M29: 0 | N29: 30000 | O29: 0 | P29: 0 | Q29: 10651 | R29: 1 | S29: 0 | T29: 10513 | U29: 1 | V29: 0 | AC29: =IF(Q29=0,100%,IF((J29+K29)/Q29>100%,100%,IF(($J29+K29)/$Q29<0,0,($J29+K29)/$Q29))) -> 1 | AD29: =IF(Q29=0,100%,IF((J29+K29+L29)/Q29>100%,100%,IF(($J29+K29+L29)/$Q29<0,0,($J29+K29+L29)/$Q29))) -> 1
A30: NATAL | C30: BR1TP | D30: FRAGRANCE | E30: ANA CAROLINA FARIA | F30: 1224297 | G30: 1444367 | H30: COLOGNE RELABEL FROZEN | I30: 03 - Phase Out - CM | J30: 15696 | K30: 39013 | L30: 31000 | M30: 0 | N30: 70013 | O30: 0 | P30: 0 | Q30: 10382 | R30: 1 | S30: 0 | T30: 7663 | U30: 0.69 | V30: 2349 | AC30: =IF(Q30=0,100%,IF((J30+K30)/Q30>100%,100%,IF(($J30+K30)/$Q30<0,0,($J30+K30)/$Q30))) -> 1 | AD30: =IF(Q30=0,100%,IF((J30+K30+L30)/Q30>100%,100%,IF(($J30+K30+L30)/$Q30<0,0,($J30+K30+L30)/$Q30))) -> 1
A31: NATAL | B31: C2312153 - 14/12/2021 - Fornecedor tentando antecipar a entrega dos insimos de produção. Escalado para Sourcing | C31: BR6FS | D31: PERSONAL CARE | E31: CESAR NETO | F31: 1227242 | G31: 1467558 | H31: LOC CORPO ENCANT GLAMOR 200ML | I31: 02 - Active - CM | J31: 5486 | K31: 0 | L31: 15000 | M31: 0 | N31: 15000 | O31: 0 | P31: 0 | Q31: 13937 | R31: 0.39 | S31: 8451 | T31: 529 | U31: 0 | V31: 529 | AC31: =IF(Q31=0,100%,IF((J31+K31)/Q31>100%,100%,IF(($J31+K31)/$Q31<0,0,($J31+K31)/$Q31))) -> 0.39362847 | AD31: =IF(Q31=0,100%,IF((J31+K31+L31)/Q31>100%,100%,IF(($J31+K31+L31)/$Q31<0,0,($J31+K31+L31)/$Q31))) -> 1
A32: NATAL | C32: BR6FS | D32: PERSONAL CARE | E32: CESAR NETO | F32: 1221570 | G32: 1381812 | H32: LOCAO CP ENC IRRESISTIVEL 400M | I32: 05 - Non Saleable - CM | J32: 40 | K32: 0 | L32: 0 | M32: 0 | N32: 0 | O32: 0 | P32: 0 | Q32: 25 | R32: 1 | S32: 0 | T32: 0 | U32: 1 | V32: 0 | AC32: =IF(Q32=0,100%,IF((J32+K32)/Q32>100%,100%,IF(($J32+K32)/$Q32<0,0,($J32+K32)/$Q32))) -> 1 | AD32: =IF(Q32=0,100%,IF((J32+K32+L32)/Q32>100%,100%,IF(($J32+K32+L32)/$Q32<0,0,($J32+K32+L32)/$Q32))) -> 1
A33: NATAL | C33: BRG02 | D33: COLOR I | E33: RENATA SOUZA | F33: 1230472 | G33: 1477653 | H33: SACOLA M UNISEX 2022 | I33: 02 - Active - CM | J33: 34071 | K33: 0 | L33: 0 | M33: 0 | N33: 0 | O33: 0 | P33: 0 | Q33: 1305 | R33: 1 | S33: 0 | T33: 779 | U33: 1 | V33: 0 | AC33: =IF(Q33=0,100%,IF((J33+K33)/Q33>100%,100%,IF(($J33+K33)/$Q33<0,0,($J33+K33)/$Q33))) -> 1 | AD33: =IF(Q33=0,100%,IF((J33+K33+L33)/Q33>100%,100%,IF(($J33+K33+L33)/$Q33<0,0,($J33+K33+L33)/$Q33))) -> 1
A34: NATAL | C34: BRG04 | D34: OV | E34: RENATA SOUZA | F34: 1228528 | G34: 1466437 | H34: SABON BARRA ENCANT IRRES SEDUT | I34: 03 - Phase Out - CM | J34: 27150 | K34: 0 | L34: 0 | M34: 0 | N34: 0 | O34: 0 | P34: 0 | Q34: 472 | R34: 1 | S34: 0 | T34: 0 | U34: 1 | V34: 0 | AC34: =IF(Q34=0,100%,IF((J34+K34)/Q34>100%,100%,IF(($J34+K34)/$Q34<0,0,($J34+K34)/$Q34))) -> 1 | AD34: =IF(Q34=0,100%,IF((J34+K34+L34)/Q34>100%,100%,IF(($J34+K34+L34)/$Q34<0,0,($J34+K34+L34)/$Q34))) -> 1
A35: NATAL | C35: BRTSI | D35: OV | E35: RENATA SOUZA | F35: 1227759 | G35: 1464637 | H35: PALETA BIG PRO DE MAQUIAGEM | I35: 02 - Active - CM | J35: 37075 | K35: 0 | L35: 0 | M35: 0 | N35: 0 | O35: 0 | P35: 0 | Q35: 372 | R35: 1 | S35: 0 | T35: 0 | U35: 1 | V35: 0 | AC35: =IF(Q35=0,100%,IF((J35+K35)/Q35>100%,100%,IF(($J35+K35)/$Q35<0,0,($J35+K35)/$Q35))) -> 1 | AD35: =IF(Q35=0,100%,IF((J35+K35+L35)/Q35>100%,100%,IF(($J35+K35+L35)/$Q35<0,0,($J35+K35+L35)/$Q35))) -> 1
A36: NATAL | C36: BR3FS | D36: SKIN CARE | E36: MARCELLY ROLDAN | F36: 1221600 | G36: 1381761 | H36: CREME MAOS ENCANTO SEDUCAO 30G | I36: 03 - Phase Out - CM | J36: 20187 | K36: 0 | L36: 0 | M36: 0 | N36: 0 | O36: 0 | P36: 0 | Q36: 2002 | R36: 1 | S36: 0 | T36: 3805 | U36: 1 | V36: 0 | AC36: =IF(Q36=0,100%,IF((J36+K36)/Q36>100%,100%,IF(($J36+K36)/$Q36<0,0,($J36+K36)/$Q36))) -> 1 | AD36: =IF(Q36=0,100%,IF((J36+K36+L36)/Q36>100%,100%,IF(($J36+K36+L36)/$Q36<0,0,($J36+K36+L36)/$Q36))) -> 1
A37: NATAL | C37: BRTSI | D37: OV | E37: RENATA SOUZA | F37: 1229735 | G37: 1481283 | H37: PALETA SOMBRA OLHOS ICE FAIRY | I37: 02 - Active - CM | J37: 1056 | K37: 0 | L37: 0 | M37: 1632 | N37: 1632 | O37: 0 | P37: 0 | Q37: 1934 | R37: 0.55 | S37: 878 | T37: 604 | U37: 0 | V37: 604 | AC37: =IF(Q37=0,100%,IF((J37+K37)/Q37>100%,100%,IF(($J37+K37)/$Q37<0,0,($J37+K37)/$Q37))) -> 0.54601861 | AD37: =IF(Q37=0,100%,IF((J37+K37+L37)/Q37>100%,100%,IF(($J37+K37+L37)/$Q37<0,0,($J37+K37+L37)/$Q37))) -> 0.54601861
A38: NATAL | C38: BR1TP | D38: FRAGRANCE | E38: ANA CAROLINA FARIA | F38: 1229661 | G38: 1480481 | H38: COL DES SEGNO VISION HOMO 25ML | I38: 02 - Active - CM | J38: 12683 | K38: 0 | L38: 0 | M38: 0 | N38: 0 | O38: 0 | P38: 0 | Q38: 1070 | R38: 1 | S38: 0 | T38: 765 | U38: 1 | V38: 0 | AC38: =IF(Q38=0,100%,IF((J38+K38)/Q38>100%,100%,IF(($J38+K38)/$Q38<0,0,($J38+K38)/$Q38))) -> 1 | AD38: =IF(Q38=0,100%,IF((J38+K38+L38)/Q38>100%,100%,IF(($J38+K38+L38)/$Q38<0,0,($J38+K38+L38)/$Q38))) -> 1
A39: NATAL | C39: BR6FS | D39: PERSONAL CARE | E39: CESAR NETO | F39: 1229676 | G39: 1494511 | H39: LO??O CORP INTENSA LUIZA 140ML | I39: 02 - Active - CM | J39: 14649 | K39: 0 | L39: 0 | M39: 0 | N39: 0 | O39: 0 | P39: 0 | Q39: 8282 | R39: 1 | S39: 0 | T39: 1622 | U39: 1 | V39: 0 | AC39: =IF(Q39=0,100%,IF((J39+K39)/Q39>100%,100%,IF(($J39+K39)/$Q39<0,0,($J39+K39)/$Q39))) -> 1 | AD39: =IF(Q39=0,100%,IF((J39+K39+L39)/Q39>100%,100%,IF(($J39+K39+L39)/$Q39<0,0,($J39+K39+L39)/$Q39))) -> 1
A40: NATAL | B40: R3746 - S/ DATA - 0 | C40: BR0FS | D40: COLOR II | E40: GRACIANO MATA | F40: 1223381 | G40: 1424077 | H40: MASCARA CILIOS CT BLACK | I40: 02 - Active - CM | J40: 151333 | K40: 0 | L40: 24000 | M40: 0 | N40: 24000 | O40: 0 | P40: 0 | Q40: 93450 | R40: 1 | S40: 0 | T40: 80427 | U40: 0.72 | V40: 22544 | AC40: =IF(Q40=0,100%,IF((J40+K40)/Q40>100%,100%,IF(($J40+K40)/$Q40<0,0,($J40+K40)/$Q40))) -> 1 | AD40: =IF(Q40=0,100%,IF((J40+K40+L40)/Q40>100%,100%,IF(($J40+K40+L40)/$Q40<0,0,($J40+K40+L40)/$Q40))) -> 1
...

Sheet Só KIT CP03
M1: Demanda KIT WEB | P1: Demanda KIT Cenario Maximo | S1: Cenario Medio | U1: Cenario Maximo
A2: Item Grot | B2: CATEGORIA | C2: PLANEJADOR | D2: FSC | E2: DESCRIÇÃO | F2: VIDA | G2: SKT TOTAL | H2: FALTA PROD W ATUAL | I2: ORDENS W+1 | J2: ORDENS W+2 | K2: TOTAL A PRODUZIR 3 Semanas | L2: Falta Faturar CP Atual | M2: DEMANDA | N2: % COB | O2: FALTA | P2: DEMANDA | Q2: % COB | R2: FALTA | S2: % COB + Prod Semana Abertura | T2: % COB + Prod 1 Semana após Abertura | U2: % COB + Prod 1 Semana Antes Maximo | V2: % COB + Prod Abertura Maximo
A3: ='BASE - Geral'!B3 -> 0 | B3: ='BASE - Geral'!D3 -> SKIN CARE | C3: ='BASE - Geral'!E3 -> MARCELLY ROLDAN | D3: ='BASE - Geral'!G3 -> 1493955 | E3: ='BASE - Geral'!H3 -> LOCAO CORP SURREAL GARDEN 90ML | F3: ='BASE - Geral'!I3 -> 02 - Active - CM | G3: ='BASE - Geral'!J3 -> 29193 | H3: ='BASE - Geral'!K3 -> 0 | I3: ='BASE - Geral'!L3 -> 0 | J3: ='BASE - Geral'!M3 -> 0 | K3: ='BASE - Geral'!N3 -> 0 | L3: ='BASE - Geral'!Q3 -> 6608 | M3: =VLOOKUP(D3,'Demanda Isolada KIT'!$M$2:$P$1048576,2,0) -> 22428 | N3: =IF(M3=0,100%,IF((G3-L3)/M3>100%,100%,IF(($G3-L3)/$M3<0,0,($G3-L3)/$M3))) -> 1 | O3: =IF(L3+M3-G3>0,L3+M3-G3,0) -> 0 | P3: =VLOOKUP(D3,'Demanda Isolada KIT'!$R$2:$U$1048576,2,0) -> 0 | Q3: =IF(P3=0,100%,IF((G3-L3)/P3>100%,100%,IF(($G3-L3)/$P3<0,0,($G3-L3)/$P3))) -> 1 | R3: =IF(L3+P3-G3>0,L3+P3-G3,0) -> 0 | S3: =IF(M3=0,100%,IF((G3+H3-L3)/M3>100%,100%,IF(($G3+H3-L3)/$M3<0,0,($G3+H3-L3)/$M3))) -> 1 | T3: =IF(M3=0,100%,IF((G3+H3+I3-L3)/M3>100%,100%,IF(($G3+H3+I3-L3)/$M3<0,0,($G3+H3+I3-L3)/$M3))) -> 1 | U3: =IF(P3=0,100%,IF((G3+H3-L3)/P3>100%,100%,IF(($G3+H3-L3)/$P3<0,0,($G3+H3-L3)/$P3))) -> 1 | V3: =IF(P3=0,100%,IF((G3+H3+I3-L3)/P3>100%,100%,IF(($G3+H3+I3-L3)/$P3<0,0,($G3+H3+I3-L3)/$P3))) -> 1
A4: ='BASE - Geral'!#REF! -> #REF! | B4: ='BASE - Geral'!#REF! -> #REF! | C4: ='BASE - Geral'!#REF! -> #REF! | D4: ='BASE - Geral'!#REF! -> #REF! | E4: ='BASE - Geral'!#REF! -> #REF! | F4: ='BASE - Geral'!#REF! -> #REF! | G4: ='BASE - Geral'!#REF! -> #REF! | H4: ='BASE - Geral'!#REF! -> #REF! | ... L4: ='BASE - Geral'!#REF! -> #REF! | M4: =VLOOKUP(D4,'Demanda Isolada KIT'!$M$2:$P$1048576,2,0) -> #REF! | N4: =IF(M4=0,100%,IF((G4-L4)/M4>100%,100%,IF(($G4-L4)/$M4<0,0,($G4-L4)/$M4))) -> #REF! | O4: =IF(L4+M4-G4>0,L4+M4-G4,0) -> #REF! | P4: =VLOOKUP(D4,'Demanda Isolada KIT'!$R$2:$U$1048576,2,0) -> #REF! | Q4: =IF(P4=0,100%,IF((G4-L4)/P4>100%,100%,IF(($G4-L4)/$P4<0,0,($G4-L4)/$P4))) -> #REF! | R4: =IF(L4+P4-G4>0,L4+P4-G4,0) -> #REF! | S4: =IF(M4=0,100%,IF((G4+H4-L4)/M4>100%,100%,IF(($G4+H4-L4)/$M4<0,0,($G4+H4-L4)/$M4))) -> #REF! | T4: =IF(M4=0,100%,IF((G4+H4+I4-L4)/M4>100%,100%,IF(($G4+H4+I4-L4)/$M4<0,0,($G4+H4+I4-L4)/$M4))) -> #REF! | U4: =IF(P4=0,100%,IF((G4+H4-L4)/P4>100%,100%,IF(($G4+H4-L4)/$P4<0,0,($G4+H4-L4)/$P4))) -> #REF! | V4: =IF(P4=0,100%,IF((G4+H4+I4-L4)/P4>100%,100%,IF(($G4+H4+I4-L4)/$P4<0,0,($G4+H4+I4-L4)/$P4))) -> #REF!
A5: ='BASE - Geral'!#REF! -> #REF! | B5: ='BASE - Geral'!#REF! -> #REF! | C5: ='BASE - Geral'!#REF! -> #REF! | D5: ='BASE - Geral'!#REF! -> #REF! | E5: ='BASE - Geral'!#REF! -> #REF! | F5: ='BASE - Geral'!#REF! -> #REF! | G5: ='BASE - Geral'!#REF! -> #REF! | H5: ='BASE - Geral'!#REF! -> #REF! | ... L5: ='BASE - Geral'!#REF! -> #REF! | M5: =VLOOKUP(D5,'Demanda Isolada KIT'!$M$2:$P$1048576,2,0) -> #REF! | N5: =IF(M5=0,100%,IF((G5-L5)/M5>100%,100%,IF(($G5-L5)/$M5<0,0,($G5-L5)/$M5))) -> #REF! | O5: =IF(L5+M5-G5>0,L5+M5-G5,0) -> #REF! | P5: =VLOOKUP(D5,'Demanda Isolada KIT'!$R$2:$U$1048576,2,0) -> #REF! | Q5: =IF(P5=0,100%,IF((G5-L5)/P5>100%,100%,IF(($G5-L5)/$P5<0,0,($G5-L5)/$P5))) -> #REF! | R5: =IF(L5+P5-G5>0,L5+P5-G5,0) -> #REF! | S5: =IF(M5=0,100%,IF((G5+H5-L5)/M5>100%,100%,IF(($G5+H5-L5)/$M5<0,0,($G5+H5-L5)/$M5))) -> #REF! | T5: =IF(M5=0,100%,IF((G5+H5+I5-L5)/M5>100%,100%,IF(($G5+H5+I5-L5)/$M5<0,0,($G5+H5+I5-L5)/$M5))) -> #REF! | U5: =IF(P5=0,100%,IF((G5+H5-L5)/P5>100%,100%,IF(($G5+H5-L5)/$P5<0,0,($G5+H5-L5)/$P5))) -> #REF! | V5: =IF(P5=0,100%,IF((G5+H5+I5-L5)/P5>100%,100%,IF(($G5+H5+I5-L5)/$P5<0,0,($G5+H5+I5-L5)/$P5))) -> #REF!
A6: ='BASE - Geral'!#REF! -> #REF! | B6: ='BASE - Geral'!#REF! -> #REF! | C6: ='BASE - Geral'!#REF! -> #REF! | D6: ='BASE - Geral'!#REF! -> #REF! | E6: ='BASE - Geral'!#REF! -> #REF! | F6: ='BASE - Geral'!#REF! -> #REF! | G6: ='BASE - Geral'!#REF! -> #REF! | H6: ='BASE - Geral'!#REF! -> #REF! | ... L6: ='BASE - Geral'!#REF! -> #REF! | M6: =VLOOKUP(D6,'Demanda Isolada KIT'!$M$2:$P$1048576,2,0) -> #REF! | N6: =IF(M6=0,100%,IF((G6-L6)/M6>100%,100%,IF(($G6-L6)/$M6<0,0,($G6-L6)/$M6))) -> #REF! | O6: =IF(L6+M6-G6>0,L6+M6-G6,0) -> #REF! | P6: =VLOOKUP(D6,'Demanda Isolada KIT'!$R$2:$U$1048576,2,0) -> #REF! | Q6: =IF(P6=0,100%,IF((G6-L6)/P6>100%,100%,IF(($G6-L6)/$P6<0,0,($G6-L6)/$P6))) -> #REF! | R6: =IF(L6+P6-G6>0,L6+P6-G6,0) -> #REF! | S6: =IF(M6=0,100%,IF((G6+H6-L6)/M6>100%,100%,IF(($G6+H6-L6)/$M6<0,0,($G6+H6-L6)/$M6))) -> #REF! | T6: =IF(M6=0,100%,IF((G6+H6+I6-L6)/M6>100%,100%,IF(($G6+H6+I6-L6)/$M6<0,0,($G6+H6+I6-L6)/$M6))) -> #REF! | U6: =IF(P6=0,100%,IF((G6+H6-L6)/P6>100%,100%,IF(($G6+H6-L6)/$P6<0,0,($G6+H6-L6)/$P6))) -> #REF! | V6: =IF(P6=0,100%,IF((G6+H6+I6-L6)/P6>100%,100%,IF(($G6+H6+I6-L6)/$P6<0,0,($G6+H6+I6-L6)/$P6))) -> #REF!
A7: ='BASE - Geral'!#REF! -> #REF! | B7: ='BASE - Geral'!#REF! -> #REF! | C7: ='BASE - Geral'!#REF! -> #REF! | D7: ='BASE - Geral'!#REF! -> #REF! | E7: ='BASE - Geral'!#REF! -> #REF! | F7: ='BASE - Geral'!#REF! -> #REF! | G7: ='BASE - Geral'!#REF! -> #REF! | H7: ='BASE - Geral'!#REF! -> #REF! | ... L7: ='BASE - Geral'!#REF! -> #REF! | M7: =VLOOKUP(D7,'Demanda Isolada KIT'!$M$2:$P$1048576,2,0) -> #REF! | N7: =IF(M7=0,100%,IF((G7-L7)/M7>100%,100%,IF(($G7-L7)/$M7<0,0,($G7-L7)/$M7))) -> #REF! | O7: =IF(L7+M7-G7>0,L7+M7-G7,0) -> #REF! | P7: =VLOOKUP(D7,'Demanda Isolada KIT'!$R$2:$U$1048576,2,0) -> #REF! | Q7: =IF(P7=0,100%,IF((G7-L7)/P7>100%,100%,IF(($G7-L7)/$P7<0,0,($G7-L7)/$P7))) -> #REF! | R7: =IF(L7+P7-G7>0,L7+P7-G7,0) -> #REF! | S7: =IF(M7=0,100%,IF((G7+H7-L7)/M7>100%,100%,IF(($G7+H7-L7)/$M7<0,0,($G7+H7-L7)/$M7))) -> #REF! | T7: =IF(M7=0,100%,IF((G7+H7+I7-L7)/M7>100%,100%,IF(($G7+H7+I7-L7)/$M7<0,0,($G7+H7+I7-L7)/$M7))) -> #REF! | U7: =IF(P7=0,100%,IF((G7+H7-L7)/P7>100%,100%,IF(($G7+H7-L7)/$P7<0,0,($G7+H7-L7)/$P7))) -> #REF! | V7: =IF(P7=0,100%,IF((G7+H7+I7-L7)/P7>100%,100%,IF(($G7+H7+I7-L7)/$P7<0,0,($G7+H7+I7-L7)/$P7))) -> #REF!
A8: ='BASE - Geral'!#REF! -> #REF! | B8: ='BASE - Geral'!#REF! -> #REF! | C8: ='BASE - Geral'!#REF! -> #REF! | D8: ='BASE - Geral'!#REF! -> #REF! | E8: ='BASE - Geral'!#REF! -> #REF! | F8: ='BASE - Geral'!#REF! -> #REF! | G8: ='BASE - Geral'!#REF! -> #REF! | H8: ='BASE - Geral'!#REF! -> #REF! | ... L8: ='BASE - Geral'!#REF! -> #REF! | M8: =VLOOKUP(D8,'Demanda Isolada KIT'!$M$2:$P$1048576,2,0) -> #REF! | N8: =IF(M8=0,100%,IF((G8-L8)/M8>100%,100%,IF(($G8-L8)/$M8<0,0,($G8-L8)/$M8))) -> #REF! | O8: =IF(L8+M8-G8>0,L8+M8-G8,0) -> #REF! | P8: =VLOOKUP(D8,'Demanda Isolada KIT'!$R$2:$U$1048576,2,0) -> #REF! | Q8: =IF(P8=0,100%,IF((G8-L8)/P8>100%,100%,IF(($G8-L8)/$P8<0,0,($G8-L8)/$P8))) -> #REF! | R8: =IF(L8+P8-G8>0,L8+P8-G8,0) -> #REF! | S8: =IF(M8=0,100%,IF((G8+H8-L8)/M8>100%,100%,IF(($G8+H8-L8)/$M8<0,0,($G8+H8-L8)/$M8))) -> #REF! | T8: =IF(M8=0,100%,IF((G8+H8+I8-L8)/M8>100%,100%,IF(($G8+H8+I8-L8)/$M8<0,0,($G8+H8+I8-L8)/$M8))) -> #REF! | U8: =IF(P8=0,100%,IF((G8+H8-L8)/P8>100%,100%,IF(($G8+H8-L8)/$P8<0,0,($G8+H8-L8)/$P8))) -> #REF! | V8: =IF(P8=0,100%,IF((G8+H8+I8-L8)/P8>100%,100%,IF(($G8+H8+I8-L8)/$P8<0,0,($G8+H8+I8-L8)/$P8))) -> #REF!
A9: ='BASE - Geral'!#REF! -> #REF! | B9: ='BASE - Geral'!#REF! -> #REF! | C9: ='BASE - Geral'!#REF! -> #REF! | D9: ='BASE - Geral'!#REF! -> #REF! | E9: ='BASE - Geral'!#REF! -> #REF! | F9: ='BASE - Geral'!#REF! -> #REF! | G9: ='BASE - Geral'!#REF! -> #REF! | H9: ='BASE - Geral'!#REF! -> #REF! | ... L9: ='BASE - Geral'!#REF! -> #REF! | M9: =VLOOKUP(D9,'Demanda Isolada KIT'!$M$2:$P$1048576,2,0) -> #REF! | N9: =IF(M9=0,100%,IF((G9-L9)/M9>100%,100%,IF(($G9-L9)/$M9<0,0,($G9-L9)/$M9))) -> #REF! | O9: =IF(L9+M9-G9>0,L9+M9-G9,0) -> #REF! | P9: =VLOOKUP(D9,'Demanda Isolada KIT'!$R$2:$U$1048576,2,0) -> #REF! | Q9: =IF(P9=0,100%,IF((G9-L9)/P9>100%,100%,IF(($G9-L9)/$P9<0,0,($G9-L9)/$P9))) -> #REF! | R9: =IF(L9+P9-G9>0,L9+P9-G9,0) -> #REF! | S9: =IF(M9=0,100%,IF((G9+H9-L9)/M9>100%,100%,IF(($G9+H9-L9)/$M9<0,0,($G9+H9-L9)/$M9))) -> #REF! | T9: =IF(M9=0,100%,IF((G9+H9+I9-L9)/M9>100%,100%,IF(($G9+H9+I9-L9)/$M9<0,0,($G9+H9+I9-L9)/$M9))) -> #REF! | U9: =IF(P9=0,100%,IF((G9+H9-L9)/P9>100%,100%,IF(($G9+H9-L9)/$P9<0,0,($G9+H9-L9)/$P9))) -> #REF! | V9: =IF(P9=0,100%,IF((G9+H9+I9-L9)/P9>100%,100%,IF(($G9+H9+I9-L9)/$P9<0,0,($G9+H9+I9-L9)/$P9))) -> #REF!
A10: ='BASE - Geral'!#REF! -> #REF! | B10: ='BASE - Geral'!#REF! -> #REF! | C10: ='BASE - Geral'!#REF! -> #REF! | D10: ='BASE - Geral'!#REF! -> #REF! | E10: ='BASE - Geral'!#REF! -> #REF! | F10: ='BASE - Geral'!#REF! -> #REF! | G10: ='BASE - Geral'!#REF! -> #REF! | H10: ='BASE - Geral'!#REF! -> #REF! | ... L10: ='BASE - Geral'!#REF! -> #REF! | M10: =VLOOKUP(D10,'Demanda Isolada KIT'!$M$2:$P$1048576,2,0) -> #REF! | N10: =IF(M10=0,100%,IF((G10-L10)/M10>100%,100%,IF(($G10-L10)/$M10<0,0,($G10-L10)/$M10))) -> #REF! | O10: =IF(L10+M10-G10>0,L10+M10-G10,0) -> #REF! | P10: =VLOOKUP(D10,'Demanda Isolada KIT'!$R$2:$U$1048576,2,0) -> #REF! | Q10: =IF(P10=0,100%,IF((G10-L10)/P10>100%,100%,IF(($G10-L10)/$P10<0,0,($G10-L10)/$P10))) -> #REF! | R10: =IF(L10+P10-G10>0,L10+P10-G10,0) -> #REF! | S10: =IF(M10=0,100%,IF((G10+H10-L10)/M10>100%,100%,IF(($G10+H10-L10)/$M10<0,0,($G10+H10-L10)/$M10))) -> #REF! | T10: =IF(M10=0,100%,IF((G10+H10+I10-L10)/M10>100%,100%,IF(($G10+H10+I10-L10)/$M10<0,0,($G10+H10+I10-L10)/$M10))) -> #REF! | U10: =IF(P10=0,100%,IF((G10+H10-L10)/P10>100%,100%,IF(($G10+H10-L10)/$P10<0,0,($G10+H10-L10)/$P10))) -> #REF! | V10: =IF(P10=0,100%,IF((G10+H10+I10-L10)/P10>100%,100%,IF(($G10+H10+I10-L10)/$P10<0,0,($G10+H10+I10-L10)/$P10))) -> #REF!
A11: ='BASE - Geral'!#REF! -> #REF! | B11: ='BASE - Geral'!#REF! -> #REF! | C11: ='BASE - Geral'!#REF! -> #REF! | D11: ='BASE - Geral'!#REF! -> #REF! | E11: ='BASE - Geral'!#REF! -> #REF! | F11: ='BASE - Geral'!#REF! -> #REF! | G11: ='BASE - Geral'!#REF! -> #REF! | H11: ='BASE - Geral'!#REF! -> #REF! | ... L11: ='BASE - Geral'!#REF! -> #REF! | M11: =VLOOKUP(D11,'Demanda Isolada KIT'!$M$2:$P$1048576,2,0) -> #REF! | N11: =IF(M11=0,100%,IF((G11-L11)/M11>100%,100%,IF(($G11-L11)/$M11<0,0,($G11-L11)/$M11))) -> #REF! | O11: =IF(L11+M11-G11>0,L11+M11-G11,0) -> #REF! | P11: =VLOOKUP(D11,'Demanda Isolada KIT'!$R$2:$U$1048576,2,0) -> #REF! | Q11: =IF(P11=0,100%,IF((G11-L11)/P11>100%,100%,IF(($G11-L11)/$P11<0,0,($G11-L11)/$P11))) -> #REF! | R11: =IF(L11+P11-G11>0,L11+P11-G11,0) -> #REF! | S11: =IF(M11=0,100%,IF((G11+H11-L11)/M11>100%,100%,IF(($G11+H11-L11)/$M11<0,0,($G11+H11-L11)/$M11))) -> #REF! | T11: =IF(M11=0,100%,IF((G11+H11+I11-L11)/M11>100%,100%,IF(($G11+H11+I11-L11)/$M11<0,0,($G11+H11+I11-L11)/$M11))) -> #REF! | U11: =IF(P11=0,100%,IF((G11+H11-L11)/P11>100%,100%,IF(($G11+H11-L11)/$P11<0,0,($G11+H11-L11)/$P11))) -> #REF! | V11: =IF(P11=0,100%,IF((G11+H11+I11-L11)/P11>100%,100%,IF(($G11+H11+I11-L11)/$P11<0,0,($G11+H11+I11-L11)/$P11))) -> #REF!
A12: ='BASE - Geral'!#REF! -> #REF! | B12: ='BASE - Geral'!#REF! -> #REF! | C12: ='BASE - Geral'!#REF! -> #REF! | D12: ='BASE - Geral'!#REF! -> #REF! | E12: ='BASE - Geral'!#REF! -> #REF! | F12: ='BASE - Geral'!#REF! -> #REF! | G12: ='BASE - Geral'!#REF! -> #REF! | H12: ='BASE - Geral'!#REF! -> #REF! | ... L12: ='BASE - Geral'!#REF! -> #REF! | M12: =VLOOKUP(D12,'Demanda Isolada KIT'!$M$2:$P$1048576,2,0) -> #REF! | N12: =IF(M12=0,100%,IF((G12-L12)/M12>100%,100%,IF(($G12-L12)/$M12<0,0,($G12-L12)/$M12))) -> #REF! | O12: =IF(L12+M12-G12>0,L12+M12-G12,0) -> #REF! | P12: =VLOOKUP(D12,'Demanda Isolada KIT'!$R$2:$U$1048576,2,0) -> #REF! | Q12: =IF(P12=0,100%,IF((G12-L12)/P12>100%,100%,IF(($G12-L12)/$P12<0,0,($G12-L12)/$P12))) -> #REF! | R12: =IF(L12+P12-G12>0,L12+P12-G12,0) -> #REF! | S12: =IF(M12=0,100%,IF((G12+H12-L12)/M12>100%,100%,IF(($G12+H12-L12)/$M12<0,0,($G12+H12-L12)/$M12))) -> #REF! | T12: =IF(M12=0,100%,IF((G12+H12+I12-L12)/M12>100%,100%,IF(($G12+H12+I12-L12)/$M12<0,0,($G12+H12+I12-L12)/$M12))) -> #REF! | U12: =IF(P12=0,100%,IF((G12+H12-L12)/P12>100%,100%,IF(($G12+H12-L12)/$P12<0,0,($G12+H12-L12)/$P12))) -> #REF! | V12: =IF(P12=0,100%,IF((G12+H12+I12-L12)/P12>100%,100%,IF(($G12+H12+I12-L12)/$P12<0,0,($G12+H12+I12-L12)/$P12))) -> #REF!
A13: ='BASE - Geral'!#REF! -> #REF! | B13: ='BASE - Geral'!#REF! -> #REF! | C13: ='BASE - Geral'!#REF! -> #REF! | D13: ='BASE - Geral'!#REF! -> #REF! | E13: ='BASE - Geral'!#REF! -> #REF! | F13: ='BASE - Geral'!#REF! -> #REF! | G13: ='BASE - Geral'!#REF! -> #REF! | H13: ='BASE - Geral'!#REF! -> #REF! | ... L13: ='BASE - Geral'!#REF! -> #REF! | M13: =VLOOKUP(D13,'Demanda Isolada KIT'!$M$2:$P$1048576,2,0) -> #REF! | N13: =IF(M13=0,100%,IF((G13-L13)/M13>100%,100%,IF(($G13-L13)/$M13<0,0,($G13-L13)/$M13))) -> #REF! | O13: =IF(L13+M13-G13>0,L13+M13-G13,0) -> #REF! | P13: =VLOOKUP(D13,'Demanda Isolada KIT'!$R$2:$U$1048576,2,0) -> #REF! | Q13: =IF(P13=0,100%,IF((G13-L13)/P13>100%,100%,IF(($G13-L13)/$P13<0,0,($G13-L13)/$P13))) -> #REF! | R13: =IF(L13+P13-G13>0,L13+P13-G13,0) -> #REF! | S13: =IF(M13=0,100%,IF((G13+H13-L13)/M13>100%,100%,IF(($G13+H13-L13)/$M13<0,0,($G13+H13-L13)/$M13))) -> #REF! | T13: =IF(M13=0,100%,IF((G13+H13+I13-L13)/M13>100%,100%,IF(($G13+H13+I13-L13)/$M13<0,0,($G13+H13+I13-L13)/$M13))) -> #REF! | U13: =IF(P13=0,100%,IF((G13+H13-L13)/P13>100%,100%,IF(($G13+H13-L13)/$P13<0,0,($G13+H13-L13)/$P13))) -> #REF! | V13: =IF(P13=0,100%,IF((G13+H13+I13-L13)/P13>100%,100%,IF(($G13+H13+I13-L13)/$P13<0,0,($G13+H13+I13-L13)/$P13))) -> #REF!
A14: ='BASE - Geral'!#REF! -> #REF! | B14: ='BASE - Geral'!#REF! -> #REF! | C14: ='BASE - Geral'!#REF! -> #REF! | D14: ='BASE - Geral'!#REF! -> #REF! | E14: ='BASE - Geral'!#REF! -> #REF! | F14: ='BASE - Geral'!#REF! -> #REF! | G14: ='BASE - Geral'!#REF! -> #REF! | H14: ='BASE - Geral'!#REF! -> #REF! | ... L14: ='BASE - Geral'!#REF! -> #REF! | M14: =VLOOKUP(D14,'Demanda Isolada KIT'!$M$2:$P$1048576,2,0) -> #REF! | N14: =IF(M14=0,100%,IF((G14-L14)/M14>100%,100%,IF(($G14-L14)/$M14<0,0,($G14-L14)/$M14))) -> #REF! | O14: =IF(L14+M14-G14>0,L14+M14-G14,0) -> #REF! | P14: =VLOOKUP(D14,'Demanda Isolada KIT'!$R$2:$U$1048576,2,0) -> #REF! | Q14: =IF(P14=0,100%,IF((G14-L14)/P14>100%,100%,IF(($G14-L14)/$P14<0,0,($G14-L14)/$P14))) -> #REF! | R14: =IF(L14+P14-G14>0,L14+P14-G14,0) -> #REF! | S14: =IF(M14=0,100%,IF((G14+H14-L14)/M14>100%,100%,IF(($G14+H14-L14)/$M14<0,0,($G14+H14-L14)/$M14))) -> #REF! | T14: =IF(M14=0,100%,IF((G14+H14+I14-L14)/M14>100%,100%,IF(($G14+H14+I14-L14)/$M14<0,0,($G14+H14+I14-L14)/$M14))) -> #REF! | U14: =IF(P14=0,100%,IF((G14+H14-L14)/P14>100%,100%,IF(($G14+H14-L14)/$P14<0,0,($G14+H14-L14)/$P14))) -> #REF! | V14: =IF(P14=0,100%,IF((G14+H14+I14-L14)/P14>100%,100%,IF(($G14+H14+I14-L14)/$P14<0,0,($G14+H14+I14-L14)/$P14))) -> #REF!
A15: ='BASE - Geral'!#REF! -> #REF! | B15: ='BASE - Geral'!#REF! -> #REF! | C15: ='BASE - Geral'!#REF! -> #REF! | D15: ='BASE - Geral'!#REF! -> #REF! | E15: ='BASE - Geral'!#REF! -> #REF! | F15: ='BASE - Geral'!#REF! -> #REF! | G15: ='BASE - Geral'!#REF! -> #REF! | H15: ='BASE - Geral'!#REF! -> #REF! | ... L15: ='BASE - Geral'!#REF! -> #REF! | M15: =VLOOKUP(D15,'Demanda Isolada KIT'!$M$2:$P$1048576,2,0) -> #REF! | N15: =IF(M15=0,100%,IF((G15-L15)/M15>100%,100%,IF(($G15-L15)/$M15<0,0,($G15-L15)/$M15))) -> #REF! | O15: =IF(L15+M15-G15>0,L15+M15-G15,0) -> #REF! | P15: =VLOOKUP(D15,'Demanda Isolada KIT'!$R$2:$U$1048576,2,0) -> #REF! | Q15: =IF(P15=0,100%,IF((G15-L15)/P15>100%,100%,IF(($G15-L15)/$P15<0,0,($G15-L15)/$P15))) -> #REF! | R15: =IF(L15+P15-G15>0,L15+P15-G15,0) -> #REF! | S15: =IF(M15=0,100%,IF((G15+H15-L15)/M15>100%,100%,IF(($G15+H15-L15)/$M15<0,0,($G15+H15-L15)/$M15))) -> #REF! | T15: =IF(M15=0,100%,IF((G15+H15+I15-L15)/M15>100%,100%,IF(($G15+H15+I15-L15)/$M15<0,0,($G15+H15+I15-L15)/$M15))) -> #REF! | U15: =IF(P15=0,100%,IF((G15+H15-L15)/P15>100%,100%,IF(($G15+H15-L15)/$P15<0,0,($G15+H15-L15)/$P15))) -> #REF! | V15: =IF(P15=0,100%,IF((G15+H15+I15-L15)/P15>100%,100%,IF(($G15+H15+I15-L15)/$P15<0,0,($G15+H15+I15-L15)/$P15))) -> #REF!
... A295: ='BASE - Geral'!#REF! -> #REF! | B295: ='BASE - Geral'!#REF! -> #REF! | C295: ='BASE - Geral'!#REF! -> #REF! | D295: ='BASE - Geral'!#REF! -> #REF! | E295: ='BASE - Geral'!#REF! -> #REF! | F295: ='BASE - Geral'!#REF! -> #REF! | G295: ='BASE - Geral'!#REF! -> #REF! | H295: ='BASE - Geral'!#REF! -> #REF! | ... L295: ='BASE - Geral'!#REF! -> #REF! | M295: =VLOOKUP(D295,'Demanda Isolada KIT'!$M$2:$P$1048576,2,0) -> #REF! | N295: =IF(M295=0,100%,IF((G295-L295)/M295>100%,100%,IF(($G295-L295)/$M295<0,0,($G295-L295)/$M295))) -> #REF! | O295: =IF(L295+M295-G295>0,L295+M295-G295,0) -> #REF! | P295: =VLOOKUP(D295,'Demanda Isolada KIT'!$R$2:$U$1048576,2,0) -> #REF! | Q295: =IF(P295=0,100%,IF((G295-L295)/P295>100%,100%,IF(($G295-L295)/$P295<0,0,($G295-L295)/$P295))) -> #REF! | R295: =IF(L295+P295-G295>0,L295+P295-G295,0) -> #REF! | S295: =IF(M295=0,100%,IF((G295+H295-L295)/M295>100%,100%,IF(($G295+H295-L295)/$M295<0,0,($G295+H295-L295)/$M295))) -> #REF! | T295: =IF(M295=0,100%,IF((G295+H295+I295-L295)/M295>100%,100%,IF(($G295+H295+I295-L295)/$M295<0,0,($G295+H295+I295-L295)/$M295))) -> #REF! | U295: =IF(P295=0,100%,IF((G295+H295-L295)/P295>100%,100%,IF(($G295+H295-L295)/$P295<0,0,($G295+H295-L295)/$P295))) -> #REF! | V295: =IF(P295=0,100%,IF((G295+H295+I295-L295)/P295>100%,100%,IF(($G295+H295+I295-L295)/$P295<0,0,($G295+H295+I295-L295)/$P295))) -> #REF!

Sheet Só KIT CP04
M1: Demanda KIT Cenario Medio | P1: Demanda KIT Cenario Maximo | S1: Cenario Medio | U1: Cenario Maximo
A2: Item Grot | B2: CATEGORIA | C2: PLANEJADOR | D2: FSC | E2: DESCRIÇÃO | F2: VIDA | G2: SKT TOTAL | H2: FALTA PROD W ATUAL | I2: ORDENS W+1 | J2: ORDENS W+2 | K2: TOTAL A PRODUZIR 3 Semanas | L2: Falta Faturar CP Atual | M2: DEMANDA | N2: % COB | O2: FALTA | P2: DEMANDA | Q2: % COB | R2: FALTA | S2: % COB + Prod 1 Semana Antes Medio | T2: % COB + Prod Abertura Medio | U2: % COB + Prod 1 Semana Antes Maximo | V2: % COB + Prod Abertura Maximo
A3: ='BASE - Geral'!B3 -> 0 | B3: ='BASE - Geral'!D3 -> SKIN CARE | C3: ='BASE - Geral'!E3 -> MARCELLY ROLDAN | D3: ='BASE - Geral'!G3 -> 1493955 | E3: ='BASE - Geral'!H3 -> LOCAO CORP SURREAL GARDEN 90ML | F3: ='BASE - Geral'!I3 -> 02 - Active - CM | G3: ='BASE - Geral'!J3 -> 29193 | H3: ='BASE - Geral'!K3 -> 0 | I3: ='BASE - Geral'!L3 -> 0 | J3: ='BASE - Geral'!M3 -> 0 | K3: ='BASE - Geral'!N3 -> 0 | L3: ='BASE - Geral'!Q3+'BASE - Geral'!T3 -> 7160 | M3: =VLOOKUP(D3,'Demanda Isolada KIT'!$M$2:$P$1048576,3,0) -> 0 | N3: =IF(M3=0,100%,IF((G3-L3)/M3>100%,100%,IF(($G3-L3)/$M3<0,0,($G3-L3)/$M3))) -> 1 | O3: =IF(L3+M3-G3>0,L3+M3-G3,0) -> 0 | P3: =VLOOKUP(D3,'Demanda Isolada KIT'!$R$2:$U$1048576,3,0) -> 0 | Q3: =IF(P3=0,100%,IF((G3-L3)/P3>100%,100%,IF(($G3-L3)/$P3<0,0,($G3-L3)/$P3))) -> 1 | R3: =IF(L3+P3-G3>0,L3+P3-G3,0) -> 0 | S3: =IF(M3=0,100%,IF((G3+H3+I3-L3)/M3>100%,100%,IF(($G3+H3+I3-L3)/$M3<0,0,($G3+H3+I3-L3)/$M3))) -> 1 | T3: =IF(M3=0,100%,IF((G3+K3-L3)/M3>100%,100%,IF(($G3+K3-L3)/$M3<0,0,($G3+K3-L3)/$M3))) -> 1 | U3: =IF(P3=0,100%,IF((G3+H3+I3-L3)/P3>100%,100%,IF(($G3+H3+I3-L3)/$P3<0,0,($G3+H3+I3-L3)/$P3))) -> 1 | V3: =IF(P3=0,100%,IF((G3+K3-L3)/P3>100%,100%,IF(($G3+K3-L3)/$P3<0,0,($G3+K3-L3)/$P3))) -> 1
A4: ='BASE - Geral'!#REF! -> #REF! | B4: ='BASE - Geral'!#REF! -> #REF! | C4: ='BASE - Geral'!#REF! -> #REF! | D4: ='BASE - Geral'!#REF! -> #REF! | E4: ='BASE - Geral'!#REF! -> #REF! | F4: ='BASE - Geral'!#REF! -> #REF! | G4: ='BASE - Geral'!#REF! -> #REF! | H4: ='BASE - Geral'!#REF! -> #REF! | ... K4: ='BASE - Geral'!#REF! -> #REF! | L4: ='BASE - Geral'!#REF!+'BASE - Geral'!#REF! -> #REF! | M4: =VLOOKUP(D4,'Demanda Isolada KIT'!$M$2:$P$1048576,3,0) -> #REF! | N4: =IF(M4=0,100%,IF((G4-L4)/M4>100%,100%,IF(($G4-L4)/$M4<0,0,($G4-L4)/$M4))) -> #REF! | O4: =IF(L4+M4-G4>0,L4+M4-G4,0) -> #REF! | P4: =VLOOKUP(D4,'Demanda Isolada KIT'!$R$2:$U$1048576,3,0) -> #REF! | Q4: =IF(P4=0,100%,IF((G4-L4)/P4>100%,100%,IF(($G4-L4)/$P4<0,0,($G4-L4)/$P4))) -> #REF! | R4: =IF(L4+P4-G4>0,L4+P4-G4,0) -> #REF! | S4: =IF(M4=0,100%,IF((G4+H4+I4-L4)/M4>100%,100%,IF(($G4+H4+I4-L4)/$M4<0,0,($G4+H4+I4-L4)/$M4))) -> #REF! | T4: =IF(M4=0,100%,IF((G4+K4-L4)/M4>100%,100%,IF(($G4+K4-L4)/$M4<0,0,($G4+K4-L4)/$M4))) -> #REF! | U4: =IF(P4=0,100%,IF((G4+H4+I4-L4)/P4>100%,100%,IF(($G4+H4+I4-L4)/$P4<0,0,($G4+H4+I4-L4)/$P4))) -> #REF! | V4: =IF(P4=0,100%,IF((G4+K4-L4)/P4>100%,100%,IF(($G4+K4-L4)/$P4<0,0,($G4+K4-L4)/$P4))) -> #REF!
A5: ='BASE - Geral'!#REF! -> #REF! | B5: ='BASE - Geral'!#REF! -> #REF! | C5: ='BASE - Geral'!#REF! -> #REF! | D5: ='BASE - Geral'!#REF! -> #REF! | E5: ='BASE - Geral'!#REF! -> #REF! | F5: ='BASE - Geral'!#REF! -> #REF! | G5: ='BASE - Geral'!#REF! -> #REF! | H5: ='BASE - Geral'!#REF! -> #REF! | ... K5: ='BASE - Geral'!#REF! -> #REF! | L5: ='BASE - Geral'!#REF!+'BASE - Geral'!#REF! -> #REF! | M5: =VLOOKUP(D5,'Demanda Isolada KIT'!$M$2:$P$1048576,3,0) -> #REF! | N5: =IF(M5=0,100%,IF((G5-L5)/M5>100%,100%,IF(($G5-L5)/$M5<0,0,($G5-L5)/$M5))) -> #REF! | O5: =IF(L5+M5-G5>0,L5+M5-G5,0) -> #REF! | P5: =VLOOKUP(D5,'Demanda Isolada KIT'!$R$2:$U$1048576,3,0) -> #REF! | Q5: =IF(P5=0,100%,IF((G5-L5)/P5>100%,100%,IF(($G5-L5)/$P5<0,0,($G5-L5)/$P5))) -> #REF! | R5: =IF(L5+P5-G5>0,L5+P5-G5,0) -> #REF! | S5: =IF(M5=0,100%,IF((G5+H5+I5-L5)/M5>100%,100%,IF(($G5+H5+I5-L5)/$M5<0,0,($G5+H5+I5-L5)/$M5))) -> #REF! | T5: =IF(M5=0,100%,IF((G5+K5-L5)/M5>100%,100%,IF(($G5+K5-L5)/$M5<0,0,($G5+K5-L5)/$M5))) -> #REF! | U5: =IF(P5=0,100%,IF((G5+H5+I5-L5)/P5>100%,100%,IF(($G5+H5+I5-L5)/$P5<0,0,($G5+H5+I5-L5)/$P5))) -> #REF! | V5: =IF(P5=0,100%,IF((G5+K5-L5)/P5>100%,100%,IF(($G5+K5-L5)/$P5<0,0,($G5+K5-L5)/$P5))) -> #REF!
A6: ='BASE - Geral'!#REF! -> #REF! | B6: ='BASE - Geral'!#REF! -> #REF! | C6: ='BASE - Geral'!#REF! -> #REF! | D6: ='BASE - Geral'!#REF! -> #REF! | E6: ='BASE - Geral'!#REF! -> #REF! | F6: ='BASE - Geral'!#REF! -> #REF! | G6: ='BASE - Geral'!#REF! -> #REF! | H6: ='BASE - Geral'!#REF! -> #REF! | ... K6: ='BASE - Geral'!#REF! -> #REF! | L6: ='BASE - Geral'!#REF!+'BASE - Geral'!#REF! -> #REF! | M6: =VLOOKUP(D6,'Demanda Isolada KIT'!$M$2:$P$1048576,3,0) -> #REF! | N6: =IF(M6=0,100%,IF((G6-L6)/M6>100%,100%,IF(($G6-L6)/$M6<0,0,($G6-L6)/$M6))) -> #REF! | O6: =IF(L6+M6-G6>0,L6+M6-G6,0) -> #REF! | P6: =VLOOKUP(D6,'Demanda Isolada KIT'!$R$2:$U$1048576,3,0) -> #REF! | Q6: =IF(P6=0,100%,IF((G6-L6)/P6>100%,100%,IF(($G6-L6)/$P6<0,0,($G6-L6)/$P6))) -> #REF! | R6: =IF(L6+P6-G6>0,L6+P6-G6,0) -> #REF! | S6: =IF(M6=0,100%,IF((G6+H6+I6-L6)/M6>100%,100%,IF(($G6+H6+I6-L6)/$M6<0,0,($G6+H6+I6-L6)/$M6))) -> #REF! | T6: =IF(M6=0,100%,IF((G6+K6-L6)/M6>100%,100%,IF(($G6+K6-L6)/$M6<0,0,($G6+K6-L6)/$M6))) -> #REF! | U6: =IF(P6=0,100%,IF((G6+H6+I6-L6)/P6>100%,100%,IF(($G6+H6+I6-L6)/$P6<0,0,($G6+H6+I6-L6)/$P6))) -> #REF! | V6: =IF(P6=0,100%,IF((G6+K6-L6)/P6>100%,100%,IF(($G6+K6-L6)/$P6<0,0,($G6+K6-L6)/$P6))) -> #REF!
A7: ='BASE - Geral'!#REF! -> #REF! | B7: ='BASE - Geral'!#REF! -> #REF! | C7: ='BASE - Geral'!#REF! -> #REF! | D7: ='BASE - Geral'!#REF! -> #REF! | E7: ='BASE - Geral'!#REF! -> #REF! | F7: ='BASE - Geral'!#REF! -> #REF! | G7: ='BASE - Geral'!#REF! -> #REF! | H7: ='BASE - Geral'!#REF! -> #REF! | ... K7: ='BASE - Geral'!#REF! -> #REF! | L7: ='BASE - Geral'!#REF!+'BASE - Geral'!#REF! -> #REF! | M7: =VLOOKUP(D7,'Demanda Isolada KIT'!$M$2:$P$1048576,3,0) -> #REF! | N7: =IF(M7=0,100%,IF((G7-L7)/M7>100%,100%,IF(($G7-L7)/$M7<0,0,($G7-L7)/$M7))) -> #REF! | O7: =IF(L7+M7-G7>0,L7+M7-G7,0) -> #REF! | P7: =VLOOKUP(D7,'Demanda Isolada KIT'!$R$2:$U$1048576,3,0) -> #REF! | Q7: =IF(P7=0,100%,IF((G7-L7)/P7>100%,100%,IF(($G7-L7)/$P7<0,0,($G7-L7)/$P7))) -> #REF! | R7: =IF(L7+P7-G7>0,L7+P7-G7,0) -> #REF! | S7: =IF(M7=0,100%,IF((G7+H7+I7-L7)/M7>100%,100%,IF(($G7+H7+I7-L7)/$M7<0,0,($G7+H7+I7-L7)/$M7))) -> #REF! | T7: =IF(M7=0,100%,IF((G7+K7-L7)/M7>100%,100%,IF(($G7+K7-L7)/$M7<0,0,($G7+K7-L7)/$M7))) -> #REF! | U7: =IF(P7=0,100%,IF((G7+H7+I7-L7)/P7>100%,100%,IF(($G7+H7+I7-L7)/$P7<0,0,($G7+H7+I7-L7)/$P7))) -> #REF! | V7: =IF(P7=0,100%,IF((G7+K7-L7)/P7>100%,100%,IF(($G7+K7-L7)/$P7<0,0,($G7+K7-L7)/$P7))) -> #REF!
A8: ='BASE - Geral'!#REF! -> #REF! | B8: ='BASE - Geral'!#REF! -> #REF! | C8: ='BASE - Geral'!#REF! -> #REF! | D8: ='BASE - Geral'!#REF! -> #REF! | E8: ='BASE - Geral'!#REF! -> #REF! | F8: ='BASE - Geral'!#REF! -> #REF! | G8: ='BASE - Geral'!#REF! -> #REF! | H8: ='BASE - Geral'!#REF! -> #REF! | ... K8: ='BASE - Geral'!#REF! -> #REF! | L8: ='BASE - Geral'!#REF!+'BASE - Geral'!#REF! -> #REF! | M8: =VLOOKUP(D8,'Demanda Isolada KIT'!$M$2:$P$1048576,3,0) -> #REF! | N8: =IF(M8=0,100%,IF((G8-L8)/M8>100%,100%,IF(($G8-L8)/$M8<0,0,($G8-L8)/$M8))) -> #REF! | O8: =IF(L8+M8-G8>0,L8+M8-G8,0) -> #REF! | P8: =VLOOKUP(D8,'Demanda Isolada KIT'!$R$2:$U$1048576,3,0) -> #REF! | Q8: =IF(P8=0,100%,IF((G8-L8)/P8>100%,100%,IF(($G8-L8)/$P8<0,0,($G8-L8)/$P8))) -> #REF! | R8: =IF(L8+P8-G8>0,L8+P8-G8,0) -> #REF! | S8: =IF(M8=0,100%,IF((G8+H8+I8-L8)/M8>100%,100%,IF(($G8+H8+I8-L8)/$M8<0,0,($G8+H8+I8-L8)/$M8))) -> #REF! | T8: =IF(M8=0,100%,IF((G8+K8-L8)/M8>100%,100%,IF(($G8+K8-L8)/$M8<0,0,($G8+K8-L8)/$M8))) -> #REF! | U8: =IF(P8=0,100%,IF((G8+H8+I8-L8)/P8>100%,100%,IF(($G8+H8+I8-L8)/$P8<0,0,($G8+H8+I8-L8)/$P8))) -> #REF! | V8: =IF(P8=0,100%,IF((G8+K8-L8)/P8>100%,100%,IF(($G8+K8-L8)/$P8<0,0,($G8+K8-L8)/$P8))) -> #REF!
A9: ='BASE - Geral'!#REF! -> #REF! | B9: ='BASE - Geral'!#REF! -> #REF! | C9: ='BASE - Geral'!#REF! -> #REF! | D9: ='BASE - Geral'!#REF! -> #REF! | E9: ='BASE - Geral'!#REF! -> #REF! | F9: ='BASE - Geral'!#REF! -> #REF! | G9: ='BASE - Geral'!#REF! -> #REF! | H9: ='BASE - Geral'!#REF! -> #REF! | ... K9: ='BASE - Geral'!#REF! -> #REF! | L9: ='BASE - Geral'!#REF!+'BASE - Geral'!#REF! -> #REF! | M9: =VLOOKUP(D9,'Demanda Isolada KIT'!$M$2:$P$1048576,3,0) -> #REF! | N9: =IF(M9=0,100%,IF((G9-L9)/M9>100%,100%,IF(($G9-L9)/$M9<0,0,($G9-L9)/$M9))) -> #REF! | O9: =IF(L9+M9-G9>0,L9+M9-G9,0) -> #REF! | P9: =VLOOKUP(D9,'Demanda Isolada KIT'!$R$2:$U$1048576,3,0) -> #REF! | Q9: =IF(P9=0,100%,IF((G9-L9)/P9>100%,100%,IF(($G9-L9)/$P9<0,0,($G9-L9)/$P9))) -> #REF! | R9: =IF(L9+P9-G9>0,L9+P9-G9,0) -> #REF! | S9: =IF(M9=0,100%,IF((G9+H9+I9-L9)/M9>100%,100%,IF(($G9+H9+I9-L9)/$M9<0,0,($G9+H9+I9-L9)/$M9))) -> #REF! | T9: =IF(M9=0,100%,IF((G9+K9-L9)/M9>100%,100%,IF(($G9+K9-L9)/$M9<0,0,($G9+K9-L9)/$M9))) -> #REF! | U9: =IF(P9=0,100%,IF((G9+H9+I9-L9)/P9>100%,100%,IF(($G9+H9+I9-L9)/$P9<0,0,($G9+H9+I9-L9)/$P9))) -> #REF! | V9: =IF(P9=0,100%,IF((G9+K9-L9)/P9>100%,100%,IF(($G9+K9-L9)/$P9<0,0,($G9+K9-L9)/$P9))) -> #REF!
A10: ='BASE - Geral'!#REF! -> #REF! | B10: ='BASE - Geral'!#REF! -> #REF! | C10: ='BASE - Geral'!#REF! -> #REF! | D10: ='BASE - Geral'!#REF! -> #REF! | E10: ='BASE - Geral'!#REF! -> #REF! | F10: ='BASE - Geral'!#REF! -> #REF! | G10: ='BASE - Geral'!#REF! -> #REF! | H10: ='BASE - Geral'!#REF! -> #REF! | ... K10: ='BASE - Geral'!#REF! -> #REF! | L10: ='BASE - Geral'!#REF!+'BASE - Geral'!#REF! -> #REF! | M10: =VLOOKUP(D10,'Demanda Isolada KIT'!$M$2:$P$1048576,3,0) -> #REF! | N10: =IF(M10=0,100%,IF((G10-L10)/M10>100%,100%,IF(($G10-L10)/$M10<0,0,($G10-L10)/$M10))) -> #REF! | O10: =IF(L10+M10-G10>0,L10+M10-G10,0) -> #REF! | P10: =VLOOKUP(D10,'Demanda Isolada KIT'!$R$2:$U$1048576,3,0) -> #REF! | Q10: =IF(P10=0,100%,IF((G10-L10)/P10>100%,100%,IF(($G10-L10)/$P10<0,0,($G10-L10)/$P10))) -> #REF! | R10: =IF(L10+P10-G10>0,L10+P10-G10,0) -> #REF! | S10: =IF(M10=0,100%,IF((G10+H10+I10-L10)/M10>100%,100%,IF(($G10+H10+I10-L10)/$M10<0,0,($G10+H10+I10-L10)/$M10))) -> #REF! | T10: =IF(M10=0,100%,IF((G10+K10-L10)/M10>100%,100%,IF(($G10+K10-L10)/$M10<0,0,($G10+K10-L10)/$M10))) -> #REF! | U10: =IF(P10=0,100%,IF((G10+H10+I10-L10)/P10>100%,100%,IF(($G10+H10+I10-L10)/$P10<0,0,($G10+H10+I10-L10)/$P10))) -> #REF! | V10: =IF(P10=0,100%,IF((G10+K10-L10)/P10>100%,100%,IF(($G10+K10-L10)/$P10<0,0,($G10+K10-L10)/$P10))) -> #REF!
A11: ='BASE - Geral'!#REF! -> #REF! | B11: ='BASE - Geral'!#REF! -> #REF! | C11: ='BASE - Geral'!#REF! -> #REF! | D11: ='BASE - Geral'!#REF! -> #REF! | E11: ='BASE - Geral'!#REF! -> #REF! | F11: ='BASE - Geral'!#REF! -> #REF! | G11: ='BASE - Geral'!#REF! -> #REF! | H11: ='BASE - Geral'!#REF! -> #REF! | ... K11: ='BASE - Geral'!#REF! -> #REF! | L11: ='BASE - Geral'!#REF!+'BASE - Geral'!#REF! -> #REF! | M11: =VLOOKUP(D11,'Demanda Isolada KIT'!$M$2:$P$1048576,3,0) -> #REF! | N11: =IF(M11=0,100%,IF((G11-L11)/M11>100%,100%,IF(($G11-L11)/$M11<0,0,($G11-L11)/$M11))) -> #REF! | O11: =IF(L11+M11-G11>0,L11+M11-G11,0) -> #REF! | P11: =VLOOKUP(D11,'Demanda Isolada KIT'!$R$2:$U$1048576,3,0) -> #REF! | Q11: =IF(P11=0,100%,IF((G11-L11)/P11>100%,100%,IF(($G11-L11)/$P11<0,0,($G11-L11)/$P11))) -> #REF! | R11: =IF(L11+P11-G11>0,L11+P11-G11,0) -> #REF! | S11: =IF(M11=0,100%,IF((G11+H11+I11-L11)/M11>100%,100%,IF(($G11+H11+I11-L11)/$M11<0,0,($G11+H11+I11-L11)/$M11))) -> #REF! | T11: =IF(M11=0,100%,IF((G11+K11-L11)/M11>100%,100%,IF(($G11+K11-L11)/$M11<0,0,($G11+K11-L11)/$M11))) -> #REF! | U11: =IF(P11=0,100%,IF((G11+H11+I11-L11)/P11>100%,100%,IF(($G11+H11+I11-L11)/$P11<0,0,($G11+H11+I11-L11)/$P11))) -> #REF! | V11: =IF(P11=0,100%,IF((G11+K11-L11)/P11>100%,100%,IF(($G11+K11-L11)/$P11<0,0,($G11+K11-L11)/$P11))) -> #REF!
A12: ='BASE - Geral'!#REF! -> #REF! | B12: ='BASE - Geral'!#REF! -> #REF! | C12: ='BASE - Geral'!#REF! -> #REF! | D12: ='BASE - Geral'!#REF! -> #REF! | E12: ='BASE - Geral'!#REF! -> #REF! | F12: ='BASE - Geral'!#REF! -> #REF! | G12: ='BASE - Geral'!#REF! -> #REF! | H12: ='BASE - Geral'!#REF! -> #REF! | ... K12: ='BASE - Geral'!#REF! -> #REF! | L12: ='BASE - Geral'!#REF!+'BASE - Geral'!#REF! -> #REF! | M12: =VLOOKUP(D12,'Demanda Isolada KIT'!$M$2:$P$1048576,3,0) -> #REF! | N12: =IF(M12=0,100%,IF((G12-L12)/M12>100%,100%,IF(($G12-L12)/$M12<0,0,($G12-L12)/$M12))) -> #REF! | O12: =IF(L12+M12-G12>0,L12+M12-G12,0) -> #REF! | P12: =VLOOKUP(D12,'Demanda Isolada KIT'!$R$2:$U$1048576,3,0) -> #REF! | Q12: =IF(P12=0,100%,IF((G12-L12)/P12>100%,100%,IF(($G12-L12)/$P12<0,0,($G12-L12)/$P12))) -> #REF! | R12: =IF(L12+P12-G12>0,L12+P12-G12,0) -> #REF! | S12: =IF(M12=0,100%,IF((G12+H12+I12-L12)/M12>100%,100%,IF(($G12+H12+I12-L12)/$M12<0,0,($G12+H12+I12-L12)/$M12))) -> #REF! | T12: =IF(M12=0,100%,IF((G12+K12-L12)/M12>100%,100%,IF(($G12+K12-L12)/$M12<0,0,($G12+K12-L12)/$M12))) -> #REF! | U12: =IF(P12=0,100%,IF((G12+H12+I12-L12)/P12>100%,100%,IF(($G12+H12+I12-L12)/$P12<0,0,($G12+H12+I12-L12)/$P12))) -> #REF! | V12: =IF(P12=0,100%,IF((G12+K12-L12)/P12>100%,100%,IF(($G12+K12-L12)/$P12<0,0,($G12+K12-L12)/$P12))) -> #REF!
A13: ='BASE - Geral'!#REF! -> #REF! | B13: ='BASE - Geral'!#REF! -> #REF! | C13: ='BASE - Geral'!#REF! -> #REF! | D13: ='BASE - Geral'!#REF! -> #REF! | E13: ='BASE - Geral'!#REF! -> #REF! | F13: ='BASE - Geral'!#REF! -> #REF! | G13: ='BASE - Geral'!#REF! -> #REF! | H13: ='BASE - Geral'!#REF! -> #REF! | ... K13: ='BASE - Geral'!#REF! -> #REF! | L13: ='BASE - Geral'!#REF!+'BASE - Geral'!#REF! -> #REF! | M13: =VLOOKUP(D13,'Demanda Isolada KIT'!$M$2:$P$1048576,3,0) -> #REF! | N13: =IF(M13=0,100%,IF((G13-L13)/M13>100%,100%,IF(($G13-L13)/$M13<0,0,($G13-L13)/$M13))) -> #REF! | O13: =IF(L13+M13-G13>0,L13+M13-G13,0) -> #REF! | P13: =VLOOKUP(D13,'Demanda Isolada KIT'!$R$2:$U$1048576,3,0) -> #REF! | Q13: =IF(P13=0,100%,IF((G13-L13)/P13>100%,100%,IF(($G13-L13)/$P13<0,0,($G13-L13)/$P13))) -> #REF! | R13: =IF(L13+P13-G13>0,L13+P13-G13,0) -> #REF! | S13: =IF(M13=0,100%,IF((G13+H13+I13-L13)/M13>100%,100%,IF(($G13+H13+I13-L13)/$M13<0,0,($G13+H13+I13-L13)/$M13))) -> #REF! | T13: =IF(M13=0,100%,IF((G13+K13-L13)/M13>100%,100%,IF(($G13+K13-L13)/$M13<0,0,($G13+K13-L13)/$M13))) -> #REF! | U13: =IF(P13=0,100%,IF((G13+H13+I13-L13)/P13>100%,100%,IF(($G13+H13+I13-L13)/$P13<0,0,($G13+H13+I13-L13)/$P13))) -> #REF! | V13: =IF(P13=0,100%,IF((G13+K13-L13)/P13>100%,100%,IF(($G13+K13-L13)/$P13<0,0,($G13+K13-L13)/$P13))) -> #REF!
A14: ='BASE - Geral'!#REF! -> #REF! | B14: ='BASE - Geral'!#REF! -> #REF! | C14: ='BASE - Geral'!#REF! -> #REF! | D14: ='BASE - Geral'!#REF! -> #REF! | E14: ='BASE - Geral'!#REF! -> #REF! | F14: ='BASE - Geral'!#REF! -> #REF! | G14: ='BASE - Geral'!#REF! -> #REF! | H14: ='BASE - Geral'!#REF! -> #REF! | ... K14: ='BASE - Geral'!#REF! -> #REF! | L14: ='BASE - Geral'!#REF!+'BASE - Geral'!#REF! -> #REF! | M14: =VLOOKUP(D14,'Demanda Isolada KIT'!$M$2:$P$1048576,3,0) -> #REF! | N14: =IF(M14=0,100%,IF((G14-L14)/M14>100%,100%,IF(($G14-L14)/$M14<0,0,($G14-L14)/$M14))) -> #REF! | O14: =IF(L14+M14-G14>0,L14+M14-G14,0) -> #REF! | P14: =VLOOKUP(D14,'Demanda Isolada KIT'!$R$2:$U$1048576,3,0) -> #REF! | Q14: =IF(P14=0,100%,IF((G14-L14)/P14>100%,100%,IF(($G14-L14)/$P14<0,0,($G14-L14)/$P14))) -> #REF! | R14: =IF(L14+P14-G14>0,L14+P14-G14,0) -> #REF! | S14: =IF(M14=0,100%,IF((G14+H14+I14-L14)/M14>100%,100%,IF(($G14+H14+I14-L14)/$M14<0,0,($G14+H14+I14-L14)/$M14))) -> #REF! | T14: =IF(M14=0,100%,IF((G14+K14-L14)/M14>100%,100%,IF(($G14+K14-L14)/$M14<0,0,($G14+K14-L14)/$M14))) -> #REF! | U14: =IF(P14=0,100%,IF((G14+H14+I14-L14)/P14>100%,100%,IF(($G14+H14+I14-L14)/$P14<0,0,($G14+H14+I14-L14)/$P14))) -> #REF! | V14: =IF(P14=0,100%,IF((G14+K14-L14)/P14>100%,100%,IF(($G14+K14-L14)/$P14<0,0,($G14+K14-L14)/$P14))) -> #REF!
A15: ='BASE - Geral'!#REF! -> #REF! | B15: ='BASE - Geral'!#REF! -> #REF! | C15: ='BASE - Geral'!#REF! -> #REF! | D15: ='BASE - Geral'!#REF! -> #REF! | E15: ='BASE - Geral'!#REF! -> #REF! | F15: ='BASE - Geral'!#REF! -> #REF! | G15: ='BASE - Geral'!#REF! -> #REF! | H15: ='BASE - Geral'!#REF! -> #REF! | ... K15: ='BASE - Geral'!#REF! -> #REF! | L15: ='BASE - Geral'!#REF!+'BASE - Geral'!#REF! -> #REF! | M15: =VLOOKUP(D15,'Demanda Isolada KIT'!$M$2:$P$1048576,3,0) -> #REF! | N15: =IF(M15=0,100%,IF((G15-L15)/M15>100%,100%,IF(($G15-L15)/$M15<0,0,($G15-L15)/$M15))) -> #REF! | O15: =IF(L15+M15-G15>0,L15+M15-G15,0) -> #REF! | P15: =VLOOKUP(D15,'Demanda Isolada KIT'!$R$2:$U$1048576,3,0) -> #REF! | Q15: =IF(P15=0,100%,IF((G15-L15)/P15>100%,100%,IF(($G15-L15)/$P15<0,0,($G15-L15)/$P15))) -> #REF! | R15: =IF(L15+P15-G15>0,L15+P15-G15,0) -> #REF! | S15: =IF(M15=0,100%,IF((G15+H15+I15-L15)/M15>100%,100%,IF(($G15+H15+I15-L15)/$M15<0,0,($G15+H15+I15-L15)/$M15))) -> #REF! | T15: =IF(M15=0,100%,IF((G15+K15-L15)/M15>100%,100%,IF(($G15+K15-L15)/$M15<0,0,($G15+K15-L15)/$M15))) -> #REF! | U15: =IF(P15=0,100%,IF((G15+H15+I15-L15)/P15>100%,100%,IF(($G15+H15+I15-L15)/$P15<0,0,($G15+H15+I15-L15)/$P15))) -> #REF! | V15: =IF(P15=0,100%,IF((G15+K15-L15)/P15>100%,100%,IF(($G15+K15-L15)/$P15<0,0,($G15+K15-L15)/$P15))) -> #REF!
... A135: ='BASE - Geral'!#REF! -> #REF! | B135: ='BASE - Geral'!#REF! -> #REF! | C135: ='BASE - Geral'!#REF! -> #REF! | D135: ='BASE - Geral'!#REF! -> #REF! | E135: ='BASE - Geral'!#REF! -> #REF! | F135: ='BASE - Geral'!#REF! -> #REF! | G135: ='BASE - Geral'!#REF! -> #REF! | H135: ='BASE - Geral'!#REF! -> #REF! | ... K135: ='BASE - Geral'!#REF! -> #REF! | L135: ='BASE - Geral'!#REF!+'BASE - Geral'!#REF! -> #REF! | M135: =VLOOKUP(D135,'Demanda Isolada KIT'!$M$2:$P$1048576,3,0) -> #REF! | N135: =IF(M135=0,100%,IF((G135-L135)/M135>100%,100%,IF(($G135-L135)/$M135<0,0,($G135-L135)/$M135))) -> #REF! | O135: =IF(L135+M135-G135>0,L135+M135-G135,0) -> #REF! | P135: =VLOOKUP(D135,'Demanda Isolada KIT'!$R$2:$U$1048576,3,0) -> #REF! | Q135: =IF(P135=0,100%,IF((G135-L135)/P135>100%,100%,IF(($G135-L135)/$P135<0,0,($G135-L135)/$P135))) -> #REF! | R135: =IF(L135+P135-G135>0,L135+P135-G135,0) -> #REF! | S135: =IF(M135=0,100%,IF((G135+H135+I135-L135)/M135>100%,100%,IF(($G135+H135+I135-L135)/$M135<0,0,($G135+H135+I135-L135)/$M135))) -> #REF! | T135: =IF(M135=0,100%,IF((G135+K135-L135)/M135>100%,100%,IF(($G135+K135-L135)/$M135<0,0,($G135+K135-L135)/$M135))) -> #REF! | U135: =IF(P135=0,100%,IF((G135+H135+I135-L135)/P135>100%,100%,IF(($G135+H135+I135-L135)/$P135<0,0,($G135+H135+I135-L135)/$P135))) -> #REF! | V135: =IF(P135=0,100%,IF((G135+K135-L135)/P135>100%,100%,IF(($G135+K135-L135)/$P135<0,0,($G135+K135-L135)/$P135))) -> #REF!
A136: ='BASE - Geral'!#REF! -> #REF! | B136: ='BASE - Geral'!#REF! -> #REF! | L136: ='BASE - Geral'!#REF!+'BASE - Geral'!#REF! -> #REF! | M136: =VLOOKUP(D136,'Demanda Isolada KIT'!$M$2:$P$1048576,3,0) -> #N/A | U136: =IF(P136=0,100%,IF((G136+H136+I136-L136)/P136>100%,100%,IF(($G136+H136+I136-L136)/$P136<0,0,($G136+H136+I136-L136)/$P136))) -> 1 | V136: =IF(P136=0,100%,IF((G136+K136-L136)/P136>100%,100%,IF(($G136+K136-L136)/$P136<0,0,($G136+K136-L136)/$P136))) -> 1
A137: ='BASE - Geral'!#REF! -> #REF! | B137: ='BASE - Geral'!#REF! -> #REF! | L137: ='BASE - Geral'!#REF!+'BASE - Geral'!#REF! -> #REF! | M137: =VLOOKUP(D137,'Demanda Isolada KIT'!$M$2:$P$1048576,3,0) -> #N/A | U137: =IF(P137=0,100%,IF((G137+H137+I137-L137)/P137>100%,100%,IF(($G137+H137+I137-L137)/$P137<0,0,($G137+H137+I137-L137)/$P137))) -> 1 | V137: =IF(P137=0,100%,IF((G137+K137-L137)/P137>100%,100%,IF(($G137+K137-L137)/$P137<0,0,($G137+K137-L137)/$P137))) -> 1
A138: ='BASE - Geral'!#REF! -> #REF! | B138: ='BASE - Geral'!#REF! -> #REF! | L138: ='BASE - Geral'!#REF!+'BASE - Geral'!#REF! -> #REF! | M138: =VLOOKUP(D138,'Demanda Isolada KIT'!$M$2:$P$1048576,3,0) -> #N/A | U138: =IF(P138=0,100%,IF((G138+H138+I138-L138)/P138>100%,100%,IF(($G138+H138+I138-L138)/$P138<0,0,($G138+H138+I138-L138)/$P138))) -> 1 | V138: =IF(P138=0,100%,IF((G138+K138-L138)/P138>100%,100%,IF(($G138+K138-L138)/$P138<0,0,($G138+K138-L138)/$P138))) -> 1
A139: ='BASE - Geral'!#REF! -> #REF! | B139: ='BASE - Geral'!#REF! -> #REF! | L139: ='BASE - Geral'!#REF!+'BASE - Geral'!#REF! -> #REF! | M139: =VLOOKUP(D139,'Demanda Isolada KIT'!$M$2:$P$1048576,3,0) -> #N/A | U139: =IF(P139=0,100%,IF((G139+H139+I139-L139)/P139>100%,100%,IF(($G139+H139+I139-L139)/$P139<0,0,($G139+H139+I139-L139)/$P139))) -> 1 | V139: =IF(P139=0,100%,IF((G139+K139-L139)/P139>100%,100%,IF(($G139+K139-L139)/$P139<0,0,($G139+K139-L139)/$P139))) -> 1
A140: ='BASE - Geral'!#REF! -> #REF! | B140: ='BASE - Geral'!#REF! -> #REF! | L140: ='BASE - Geral'!#REF!+'BASE - Geral'!#REF! -> #REF! | M140: =VLOOKUP(D140,'Demanda Isolada KIT'!$M$2:$P$1048576,3,0) -> #N/A | U140: =IF(P140=0,100%,IF((G140+H140+I140-L140)/P140>100%,100%,IF(($G140+H140+I140-L140)/$P140<0,0,($G140+H140+I140-L140)/$P140))) -> 1 | V140: =IF(P140=0,100%,IF((G140+K140-L140)/P140>100%,100%,IF(($G140+K140-L140)/$P140<0,0,($G140+K140-L140)/$P140))) -> 1
A141: ='BASE - Geral'!#REF! -> #REF! | B141: ='BASE - Geral'!#REF! -> #REF! | L141: ='BASE - Geral'!#REF!+'BASE - Geral'!#REF! -> #REF! | M141: =VLOOKUP(D141,'Demanda Isolada KIT'!$M$2:$P$1048576,3,0) -> #N/A | U141: =IF(P141=0,100%,IF((G141+H141+I141-L141)/P141>100%,100%,IF(($G141+H141+I141-L141)/$P141<0,0,($G141+H141+I141-L141)/$P141))) -> 1 | V141: =IF(P141=0,100%,IF((G141+K141-L141)/P141>100%,100%,IF(($G141+K141-L141)/$P141<0,0,($G141+K141-L141)/$P141))) -> 1
A142: ='BASE - Geral'!#REF! -> #REF! | B142: ='BASE - Geral'!#REF! -> #REF! | L142: ='BASE - Geral'!#REF!+'BASE - Geral'!#REF! -> #REF! | M142: =VLOOKUP(D142,'Demanda Isolada KIT'!$M$2:$P$1048576,3,0) -> #N/A | U142: =IF(P142=0,100%,IF((G142+H142+I142-L142)/P142>100%,100%,IF(($G142+H142+I142-L142)/$P142<0,0,($G142+H142+I142-L142)/$P142))) -> 1 | V142: =IF(P142=0,100%,IF((G142+K142-L142)/P142>100%,100%,IF(($G142+K142-L142)/$P142<0,0,($G142+K142-L142)/$P142))) -> 1
